BEGIN:VCALENDAR
VERSION:2.0
PRODID:-//wp-events-plugin.com//7.2.3.1//EN
BEGIN:VEVENT
UID:273@eurobak.kz
DTSTART:20260303T070000Z
DTEND:20260303T074500Z
DTSTAMP:20260303T055959Z
URL:https://eurobak.kz/events/eu-sanctions-not-a-sprint-but-a-marathon/
SUMMARY:EU Sanctions – not a sprint\, but a marathon
DESCRIPTION:Dear EUROBAK Members\,\n\nWe are pleased to invite you to parti
 cipate in an online event dedicated to discussing the Evolution of EU Sanc
 tions Policy: 2014–2026 and Regional Implications.\n\nDate: 3 March 2026
 \nTime: 11:00–12:00\nLanguage: English (no interpretation will be provid
 ed)\n\nThe speaker will be Klaus Zillikens\, Regional Sanctions Adviser at
  the EU Delegation in Astana\, who has been serving in this role since Jan
 uary 2025.\n\nDuring the session\, Mr. Zillikens will:\n• present the ke
 y elements of the EU sanctions regime against the Russian Federation\;\n
 • outline the evolution of EU sanctions policy since 2014\, now reaching
  discussion of the 20th sanctions package\;\n• explain the impact of the
 se measures on Kazakhstan and other Central Asian countries\;\n• share p
 ractical insights into how sanctions affect the activities of European com
 panies and their regional partners.\n\nDrawing on his previous experience 
 as Economic Attaché at the Embassy of Germany in Astana\, the speaker bri
 ngs strong regional expertise and emphasizes that\, despite creating an ad
 ditional burden for businesses\, sanctions remain an effective instrument.
 \n\nWe would be delighted by your participation and look forward to an eng
 aging discussion.\n\n&nbsp\;\n\nhttps://us02web.zoom.us/j/87097974460?pwd=
 VujkaSGmBSF9KVEiyLc5wJh2T6WTLJ.\n\n&nbsp\;\n\nTo confirm your attendance\,
  please complete the online registration no later than 27 February.\n\n\n&
 nbsp\;\n\nУважаемые компании входящие в ЕВРО
 БАК\,\n\nПриглашаем Вас принять участие в 
 онлайн мероприятии посвященное обсужде
 нию эволюции санкционной политики ЕС: 2014
 –2026 и региональные последствия\n\nДата:3 
 Марта\, 2026 года\nВремя: 11.00 - 12.00\nЯзык: англ
 ийский (перевод не предусмотрен)\n\nСпике
 ром выступит Клаус Цилликенс\, региональ
 ный советник по санкциям Делегации ЕС в 
 Астане\, работающий в этой должности с ян
 варя 2025 года.\n\nВ ходе выступления г-н Цил
 ликенс:\n• представит ключевые элементы 
 санкционного режима ЕС в отношении Росс
 ийской Федерации\;\n• расскажет об эволю
 ции санкционной политики\, которая приме
 няется с 2014 года и сегодня обсуждается у
 же в рамках 20-го пакета\;\n• разъяснит вли
 яние санкций на Казахстан и другие стран
 ы Центральной Азии\;\n• поделится практи
 ческим взглядом на то\, как санкции отраж
 аются на деятельности европейских компа
 ний и их региональных партнёров.\n\nИмея о
 пыт работы экономическим атташе Посольс
 тва Германии в Астане\, спикер хорошо зна
 ком с региональным контекстом и отмечае
 т\, что\, несмотря на дополнительную нагр
 узку для бизнеса\, санкции остаются дейс
 твенным инструментом.\n\nБудем рады вашем
 у участию и активному обсуждению.\n\n&nbsp\;\n
 \nhttps://us02web.zoom.us/j/87097974460?pwd=VujkaSGmBSF9KVEiyLc5wJh2T6WTLJ
 .1\n\nДля подтверждения участия\, пожалуйс
 та\, пройдите онлайн-регистрацию не позд
 нее 27 февраля.
CATEGORIES:Business
END:VEVENT
END:VCALENDAR