BEGIN:VCALENDAR
VERSION:2.0
PRODID:-//wp-events-plugin.com//7.2.3.1//EN
BEGIN:VEVENT
UID:146@eurobak.kz
DTSTART:20250130T060000Z
DTEND:20250130T070000Z
DTSTAMP:20250124T114809Z
URL:https://eurobak.kz/events/elections-of-the-executive-team-of-of-the-ne
 w-committee-on-infrastructure-logistics-and-property-development/
SUMMARY:Elections of the Executive Team of of the New Committee on Infrastr
 ucture\, Logistics\, and Property Development
DESCRIPTION:Dear EUROBAK Members\,\n\nThis is to announce Elections of the 
 Executive Team of of the New Committee on Infrastructure\, Logistics\, and
  Property Development.\n\n&nbsp\;\n\nFurther to the EUROBAK Executive Get 
 Together event held on 30 September 2024 (see presentation enclosed)\, the
  Association’s Member companies have decided to establish a new dedicate
 d Committee focused on the “Logistics (Commercial) Hubs in Kazakhstan”
  initiative.\n\n&nbsp\;\n\nThe initiative aims to develop a favorable regu
 latory and tax framework to position Kazakhstan as the #1 jurisdiction for
  the establishment of Logistics (Commercial) Hubs for the Caucasus and Cen
 tral Asia. This endeavor promises significant growth opportunities for bus
 inesses across various industries as well as substantial benefits for Kaza
 khstan's economy.\n\nTo run for a position at the Executive Team please\,
  fill in the Nomination Form (enclosed) and send it to manager@eurobak.kz
  no later than 23 January\, 17.00.\n\nPlease\, kindly pay attention on th
 e following deadlines:\n\n\n\n\n23 January (latest):\na copy of the compl
 eted\, signed and stamped Nomination Form should be sent to manager@euroba
 k.kz\n\n\n27 January (latest):\noriginals of Nomination forms should be de
 livered to EUROBAK office\, at InterContinental Almaty\, 110 Office\, 181 
 Zheltoksan Str.\, Almaty.\n\n\n\n\nVoting will be held online via Zoom pla
 tform on 30 January\, at 11.00.
CATEGORIES:Committies
END:VEVENT
END:VCALENDAR