BEGIN:VCALENDAR
VERSION:2.0
PRODID:-//wp-events-plugin.com//7.2.3.1//EN
BEGIN:VEVENT
UID:154@eurobak.kz
DTSTART:20250219T060000Z
DTEND:20250219T070000Z
DTSTAMP:20250210T104559Z
URL:https://eurobak.kz/events/elections-of-the-executive-team-of-eurobak-t
 ravel-hospitality-mice-committee/
SUMMARY:Elections of the Executive Team of EUROBAK Travel\, Hospitality &#0
 38\; MICE Committee
DESCRIPTION:Dear EUROBAK Members\,\n\nThis is to inform you that online mee
 ting of EUROBAK Travel\, Hospitality &amp\; MICE Committee and elections
  of the Executive Team will be held on 19 February 2025.\n\n&nbsp\;\n\nD
 uring this meeting we would elect the executive team for Travel\, Hospital
 ity &amp\; MICE Committee and set an action plan for 2025. Please find the
  agenda attached.\n\n&nbsp\;\n\n\n\nDate:\n19 February 2025\n\n\nTime:\n11
 .00-12.00\n\n\nLanguage:  \nEnglish\n\n\n\n&nbsp\;\n\nPlease\, be informe
 d that we have the following nominees for the Travel\, Hospitality &amp\
 ; MICE Executive Team:\n\n&nbsp\;\n\n\n\nInterContinental Hotel Almaty\nMe
 hmet Birgen Kaya\, General Director\n\n\nInternational Travel plus\nOxana 
 Serebrennikova\, CEO\n\n\nTurkish Airlines\nUgur Cantimur\, Director\n\n\n
 \n&nbsp\;\n\nVOTING PROCESS:\n\nVoting will be held online via Zoom.\n\nPl
 ease kindly note that each company* will have one vote. In the event of t
 he company being represented by two or more persons\, only one person will
  be able to vote and the company must choose which one. Other representati
 ve(s) will be transferred to the waiting room while voting takes place (it
  should take around 5-7 minutes). As soon as voting is complete\, all of t
 he participants will be re-connected to the main conference room and we wi
 ll announce the results.\n\n&nbsp\;\n\n*Only fully paid up Members will be
  eligible to vote at the Committee meeting. Please make sure your compan
 y pays up the membership fee.  \n\n&nbsp\;\n\nTo confirm your participat
 ion in this event please\, kindly proceed with Online Registration by 18
  February.\n\nWe look forward to seeing you at the event!
CATEGORIES:Committies
END:VEVENT
END:VCALENDAR