BEGIN:VCALENDAR
VERSION:2.0
PRODID:-//wp-events-plugin.com//7.2.3.1//EN
BEGIN:VEVENT
UID:151@eurobak.kz
DTSTART:20250218T063000Z
DTEND:20250218T073000Z
DTSTAMP:20250210T054847Z
URL:https://eurobak.kz/events/elections-of-the-executive-team-of-eurobak-d
 igital-committee/
SUMMARY:Elections of the Executive Team of EUROBAK Digital Committee
DESCRIPTION:Dear EUROBAK Members\,\n\nThis is to announce elections of the 
 Executive Team of EUROBAK Digital Committee.\nWe would like to invite acti
 ve specialists who are ready to contribute to development of  technologie
 s driven innovations\, big data\, cyber security\, e-commerce\, internet o
 f things\, cloud technologies and many other issues which are discussed wi
 thin the platform of Digital committee to nominate for the Executive Team.
 \n\nTo run for a position at the Digital Executive Team please\, contact 
 Evgenia Potlova manager@eurobak.kz.\n\nDate: 18 February\n\nTime: 11:30 
 – 12:30\n\nFormat: Online\n\nLanguage: Russian\n
CATEGORIES:Committies
END:VEVENT
END:VCALENDAR