BEGIN:VCALENDAR
VERSION:2.0
PRODID:-//wp-events-plugin.com//7.2.3.1//EN
BEGIN:VEVENT
UID:18@eurobak.kz
DTSTART:20230420T050000Z
DTEND:20230420T060000Z
DTSTAMP:20230407T034719Z
URL:https://eurobak.kz/events/elections-of-the-executive-team-for-marketin
 g-pr-committee/
SUMMARY:Elections of the Executive Team for Marketing &#038\; PR Committee
DESCRIPTION:Looking forward to receive your Nomination Forms!\n
CATEGORIES:Committies
END:VEVENT
END:VCALENDAR