BEGIN:VCALENDAR
VERSION:2.0
PRODID:-//wp-events-plugin.com//7.2.3.1//EN
BEGIN:VEVENT
UID:212@eurobak.kz
DTSTART:20251013T190000Z
DTEND:20251015T190000Z
DTSTAMP:20250923T151910Z
URL:https://eurobak.kz/events/dushanbe-international-investment-forum-2025
 -october-14-16-2025/
SUMMARY:DUSHANBE INTERNATIONAL INVESTMENT FORUM – 2025 October 14–16\, 
 2025
DESCRIPTION:Dear Colleagues\,\n\nWe are pleased to inform you that registra
 tion for the Dushanbe International Investment Forum 2025 has been exten
 ded until October 1.\n\nThe Forum\, taking place on 14–16 October in D
 ushanbe\, will be a unique platform to:\n✨ Meet leading investors and r
 epresentatives of international organizations\n✨ Explore key projects a
 nd new opportunities for cooperation\n✨ Exchange knowledge and build st
 rong partnerships\n✨ Discover Tajikistan’s investment potential and r
 ich cultural heritage\n\nWe would be delighted to welcome you among the pa
 rticipants of this landmark event.\nPlease note: after October 1\, regist
 ration will be closed.\n\n🔗 Register here: dushanbeinvest.com/registra
 tion\n\nWe look forward to seeing you in Dushanbe!\n\nSincerely\,\nDIIF 20
 25 Secretariat\n📩 secretariat@dushanbeinvest.com\n\n&nbsp\;\n\n&nbsp\;
 \n\n[embeddoc url="https://eurobak.kz/wp-content/uploads/2025/08/Concept-N
 ote.pdf"]\n\n&nbsp\;\n\n[embeddoc url="https://eurobak.kz/wp-content/uploa
 ds/2025/08/Agenda.pdf"]
CATEGORIES:Non-EUROBAK event
END:VEVENT
END:VCALENDAR