BEGIN:VCALENDAR
VERSION:2.0
PRODID:-//wp-events-plugin.com//7.2.3.1//EN
BEGIN:VEVENT
UID:260@eurobak.kz
DTSTART;VALUE=DATE:20251204
DTEND;VALUE=DATE:20251205
DTSTAMP:20251124T143928Z
URL:https://eurobak.kz/events/charity-ball/
SUMMARY:Charity Ball
DESCRIPTION:\n\nВ Алматы назовут лучшие социаль
 ные проекты года\nАЛМАТЫ\, [24.11.2025] – 4 дека
 бря в Алматы в рамках социальной програм
 мы Kazakhstan Growth Forum состоится ежегодный бла
 готворительный бал Charity Ball – знаковое св
 етское и филантропическое событие года\,
  объединяющее лидеров бизнеса\, обществе
 нной и культурной сфер для помощи тем\, к
 то в ней больше всего нуждается.\n\nМеропр
 иятие\, которое пройдет в изысканной веч
 ерней атмосфере\, нацелено не только на с
 бор значительных средств для реализации
  тщательно отобранных проектов\, но и укр
 епление сообщества социально ответстве
 нных лидеров в Казахстане.\n\nГлавным соб
 ытием вечера станет награждение лучших 
 социальных инициатив 2025 года. От обществ
 енных организаций поступило 102 заявки из
  18 регионов Казахстана. Лидером стала ка
 тегория «Инклюзивность» (39 заявок). Дале
 е: «Образование» (32)\, «Медицина и здравоо
 хранение» (15)\, «Экология и окружающая ср
 еда» (8)\, «Культура» (8).\n\nНоминантов конк
 урса определяет независимое экспертное 
 жюри путем коллегиальной оценки социаль
 ных проектов. В состав жюри входят предс
 тавители генеральных партнеров\, бизнес
 а\, общественных организаций\, которые им
 еют высокую деловую репутацию и эксперт
 изу в профессиональных кругах. Оценка пр
 оектов осуществляется коллегиально в дв
 а этапа отбора в соответствии с установл
 енными критериями (влияние\, доступность
 \, масштабируемость)\, едиными для всех уч
 астников конкурса. На основе анализа зая
 вок\, представленных участниками\, опред
 еляется топовый состав финалистов и поб
 едителей конкурса.\n\nВо время благотвори
 тельного бала традиционно пройдет аукци
 он\, на котором будут представлены уника
 льные лоты: предметы искусства\, эксклюз
 ивные впечатления и раритетные вещи. Все
  собранные в ходе бала средства организа
 торы направят на решение самых болевых п
 роблем казахстанского общества.\n\n«Charity B
 all — это больше\, чем просто благотворите
 льность. Это платформа\, где деловой подх
 од встречается с открытым сердцем. Мы со
 здаем пространство\, где лидеры бизнеса 
 могут не только продемонстрировать свою
  ответственность\, но и реально изменить 
 к лучшему жизни многих людей»\, — отмеча
 ет исполнительный директор Kazakhstan Growth Forum
  Маржан Меланич.\n\nKazakhstan Growth Forum благодар
 ит меценатов\, поддержавших Charity Ball. Сред
 и них корпоративные фонды RG Brands\, Aitas Group\, 
 Kusto Group\, Alina Group и других компаний.\n\nО Kazakhst
 an Growth Forum:\nKazakhstan Growth Forum — ведущая экспер
 тная площадка в Центральной Азии\, объед
 иняющая лидеров для обсуждения ключевых
  тенденций в области экономики\, бизнеса 
 и управления. Миссия KGF — способствовать
  устойчивому развитию и инновациям в рег
 ионе через диалог и обмен лучшими практи
 ками.
ATTACH;FMTTYPE=image/jpeg:https://eurobak.kz/wp-content/uploads/2025/10/ka
 zakhstan-growth-forum.png
CATEGORIES:Non-EUROBAK event
END:VEVENT
END:VCALENDAR