BEGIN:VCALENDAR
VERSION:2.0
PRODID:-//wp-events-plugin.com//7.2.3.1//EN
BEGIN:VEVENT
UID:126@eurobak.kz
DTSTART:20241004T063000Z
DTEND:20241004T080000Z
DTSTAMP:20240923T111342Z
URL:https://eurobak.kz/events/chairman-of-the-management-board-of-jsc-nati
 onal-company-kazakh-tourism-mr-sadvakassov-k-s/
SUMMARY:EUROBAK online meeting with the JSC “National Company ” Kazakh 
 Tourism”
DESCRIPTION:Dear EUROBAK Members\,\n\nWe would like to invite you to a meet
 ing with the Chairman of the Management Board of JSC "National Company " 
 Kazakh Tourism"\, Mr. Sadvakassov K.S. \n\nThe Representatives of the Ak
 imat of the city of Almaty and the Civil Aviation Committee of the Ministr
 y of Transport of the Republic of Kazakhstan will be invited.\n\nMain top
 ics for discussion:\n\nPresentation of the main trends (or directions) of 
 tourism development in Kazakhstan\n\nPresence of large investment projects
  for the development of Tourism in Kazakhstan\n\nMeasures to develop busin
 ess tourism (MICE) in Kazakhstan\n\nThe necessity to hold annual specializ
 ed exhibitions and conferences on business tourism and MICE on the territo
 ry of Kazakhstan –  as a unique opportunity to become the first in the 
 region of Central Asia and the Caucasus center of business tourism\n\nCoop
 eration with reputable professional associations such as GBTA\, PCMA\, and
  SITA (potential opening of their regional offices in our region)\n\nKazak
 hstan Travel portal\, add MICE tourism products - examples of incentive tr
 ips\n\nCooperation of JSC «National Company «Kazakhs Tourism» and Inves
 tment Committee of the Ministry of Foreign Affairs of Kazakhstan\n\n&nbsp\
 ;\n\n\n\nDate:\n4 October (Friday)\, 2024\n\n\nTime:\n11.30-13.00\n\n\nVe
 nue:\nLanguage:\nOnline\nEnglish (please note the translation in Russian i
 s unavailable.If needed\, kindly ask your colleagues for assistance)\n\n\n
 \n\nTo confirm your participation\, please kindly proceed with online re
 gistration by October 3.
CATEGORIES:Committies
END:VEVENT
END:VCALENDAR