BEGIN:VCALENDAR
VERSION:2.0
PRODID:-//wp-events-plugin.com//7.2.3.1//EN
BEGIN:VEVENT
UID:246@eurobak.kz
DTSTART:20251117T180000Z
DTEND:20251118T180000Z
DTSTAMP:20251016T145413Z
URL:https://eurobak.kz/events/carec-business-forum-2025/
SUMMARY:CAREC Business Forum 2025
DESCRIPTION:We are pleased to invite you to the CAREC Business Forum 2025\,
  titled “Transforming CAREC Corridors: Unlocking Business Opportunities
 ”\, taking place on 18–19 November 2025 at Technopark Bishkek\, Kyrgyz
  Republic.\n\n&nbsp\;\n\nOrganized by the Asian Development Bank (ADB)\, u
 nder the auspices of the Central Asia Regional Economic Cooperation (CAREC
 ) Program\, this high-level Forum aims to accelerate regional business coo
 peration and investment by positioning CAREC transport corridors—particu
 larly Corridor 2 (which largely coincides with the Middle Corridor)—as a
  dynamic economic corridor. The Forum will focus on strategic sectors such
  as smart logistics and transport\, digital trade\, green energy\, e-comme
 rce\, smart urban mobility\, and sustainable tourism\, with a strong empha
 sis on digital transformation and resilience.\n\n&nbsp\;\n\nThis is a uniq
 ue opportunity to engage directly with:\n\n 	Senior government officials f
 rom 11 CAREC countries\n 	Industry leaders and private sector executives a
 cross Asia and Europe\n 	Development partners and financial institutions\,
  including ADB\, World Bank/IFC\, EBRD\, AIIB\, IsDB\, the European Commis
 sion\, and others\n 	Private equity and venture capital investors explorin
 g scalable regional opportunities\n\n&nbsp\;\n\nParticipants will gain acc
 ess to curated B2B and B2G networking\, cross-border investment opportunit
 ies\, and insights into public-private partnership (PPP) pipelines in emer
 ging markets along the corridor.\n\n&nbsp\;\n\nYour presence at the CAREC 
 Business Forum will position you at the forefront of the whole region’s 
 evolving investment landscape—connecting innovation with infrastructure\
 , policy with capital\, and local growth with global markets.\n\nRegistrat
 ion \n\nWe hope to see you in Bishkek in November!
CATEGORIES:Non-EUROBAK event
END:VEVENT
END:VCALENDAR