BEGIN:VCALENDAR
VERSION:2.0
PRODID:-//wp-events-plugin.com//7.2.3.1//EN
BEGIN:VEVENT
UID:217@eurobak.kz
DTSTART:20251017T113000Z
DTEND:20251017T143000Z
DTSTAMP:20251016T150536Z
URL:https://eurobak.kz/events/award-ceremony/
SUMMARY:EUROBAK Award Ceremony
DESCRIPTION:Dear EUROBAK Members\,\n\n\n\nWe would like to invite you to at
 tend «EUROBAK Award Ceremony» on 17 October 2025.\n\n \n\nEUROBAK Awar
 d Ceremony is dedicated to celebrating commendable social initiatives as w
 ell as outstanding achievements in Marketing\, Human Development\, and IT 
 across various industries.\n\n\n\nDate:\n17 October (Friday)\, 2025\n\n\nT
 ime:\n16.30-19.30\n\n\nVenue:\nBelvedere Room\, T Floor\, InterContinental
  Hotel\, 181 Zheltoksan Str.\n\n\nLanguage:\nEnglish\n\n\nDress code:\nBus
 iness attire\n\n\n\n\n\n\n\n&nbsp\;\n\nWe are delighted to announce that t
 his year we have received 36 applications across 5 categories:\n✨ CSR\n
 ✨ Environmental\n✨ Human Development\n✨ IT &amp\; Modernization\n✨
  Marketing &amp\; PR\n\nDuring the Ceremony\, we will proudly announce the
  most significant projects in each category\, carefully selected by the Me
 mbers of the Jury.\n\n💡 This ceremony is not just an awards event\, but
  a testament to the dedication\, creativity\, and brilliance of our Member
 s in driving positive change in their respective fields.\n\nWe wholehearte
 dly believe your presence will further elevate the significance of this oc
 casion.\n\n👉 To confirm your participation\, please kindly proceed with
  online registration by 14 October.\n\nOne-time membership fee for partic
 ipation is: 20\,000 KZT per person.\n\n\nSponsor of the event: \n&nbsp\;\
 n\nGold Sponsor:     \n\n\n\nBronze Sponsor: \n\n\n\n&nbsp\;\n\nEvent P
 artners:\n\n&nbsp\;\n\n\n\n\n\n\n&nbsp\;\n\n\n\n\n\n\n\n\n
CATEGORIES:Business
END:VEVENT
END:VCALENDAR