BEGIN:VCALENDAR
VERSION:2.0
PRODID:-//wp-events-plugin.com//7.2.3.1//EN
BEGIN:VEVENT
UID:257@eurobak.kz
DTSTART:20251203T100000Z
DTEND:20251203T110000Z
DTSTAMP:20251120T133135Z
URL:https://eurobak.kz/events/agrinfo-webinar-on-packaging-new-eu-rules-on
 -bisphenol-a-and-pfas-2/
SUMMARY:AGRINFO webinar on packaging (New EU rules on bisphenol A and PFAS)
DESCRIPTION:AGRINFO webinar on packaging (New EU rules on bisphenol A and P
 FAS)\n\n&nbsp\;\n\nBisphenol A (BPA) is widely used in varnishes and coati
 ngs for food packaging but can migrate into food. From July 2026\, its us
 e will not be authorised in specific food contact materials (adhesives\; r
 ubbers\; ion-exchange resins\; plastics\; printing inks\; silicones\; varn
 ishes and coatings)\, with some exceptions (Regulation 2024/3190).\n\nPFA
 S are persistent chemicals that represent environmental and health hazards
 . From August 2026\, strict restrictions will apply to food contact packa
 ging (Regulation 2025/40).\n\nTo sell packaged food in the EU\, businesse
 s must ensure compliance with these requirements via a declaration of con
 formity. This document is initially drafted by the packaging manufacturer 
 and then shared across the supply chain and updated if needed.\n\n&nbsp\;\
 n\nThis webinar will explain the new rules set by the European Union (EU) 
 on BPA (bisphenol A) and PFAS\, two substances of concern in food packa
 ging. It will discuss the potential challenges and strategies that agri-fo
 od operators can adopt to ensure compliance with these requirements that w
 ill apply from mid-2026.\n\nThis webinar will be offered in three sessions
  (90 minutes each) to accommodate different time zones and language needs.
  Each session will feature the same content with simultaneous interpretati
 on from English into French\, Spanish and Portuguese for some sessions.\n\
 nRegister to your preferred session via the links below:\n\n 	English (on
 ly): Tuesday 25 November 2025 - 08:00 UTC*\n 	English\, French interpre
 tation: Wednesday 3 December 2025 - 10:00 UTC*\n 	English\, Spanish &amp
 \; Portuguese interpretation: Thursday 4 December 2025 - 16:00 UTC*\n\n&
 nbsp\;\n\nPartager l’information en français: Substances préoccupantes
  dans les emballages : Nouvelles règles européennes sur le BPA et les PF
 AS : Webinaire AGRINFO - AGRINFO Platform\n\n&nbsp\;\n\nCompartir la info
  en Espanol: Sustancias preocupantes en los envases: Nuevas reglas europea
 s sobre el BPA y los PFAS : Seminario web AGRINFO - AGRINFO Platform\n\n&
 nbsp\;\n\nEm portugues : Substâncias preocupantes em embalagens: Novas r
 egras europeias sobre BPA e PFAS : Webinar AGRINFO - AGRINFO Platform
CATEGORIES:Non-EUROBAK event
END:VEVENT
END:VCALENDAR