BEGIN:VCALENDAR
VERSION:2.0
PRODID:-//wp-events-plugin.com//7.2.3.1//EN
BEGIN:VEVENT
UID:189@eurobak.kz
DTSTART:20250607T140000Z
DTEND:20250607T160000Z
DTSTAMP:20250529T094546Z
URL:https://eurobak.kz/events/25th-anniversary-charity-gala-dinner-kazakhs
 tan-foundation-for-cultural-social-and-educational-development/
SUMMARY:25th Anniversary Charity Gala Dinner: Kazakhstan Foundation for Cul
 tural Social and Educational Development
DESCRIPTION:25th Anniversary Charity Gala Dinner\n\nKazakhstan Foundation f
 or Cultural Social and Educational Development (KFCSED) invites you to an 
 unforgettable evening of culture\, connection\, and purpose on 7 June 2025
  at Novotel Almaty City Center. Join us to celebrate 25 years of impact an
 d support our programs for girls in Kazakhstan.\n\nRead more...\n\n&nbsp\;
 \n\nБлаготворительный гала-ужин к 25-летию 
 фонда\n\nКазахстанский Фонд Культурного\,
  Социального и Образовательного Развити
 я приглашает вас на незабываемый вечер к
 ультуры и вдохновения\, который состоитс
 я 7 июня 2025 года в Novotel Almaty City Center. Вместе о
 тпразднуем 25 лет работы и поддержим прог
 раммы для девушек в Казахстане.\n\n[embeddoc url
 ="https://eurobak.kz/wp-content/uploads/2025/05/KFCSED-anniversary.pdf"]
CATEGORIES:Non-EUROBAK event
END:VEVENT
END:VCALENDAR