BEGIN:VCALENDAR
VERSION:2.0
PRODID:-//wp-events-plugin.com//7.2.3.1//EN
BEGIN:VEVENT
UID:275@eurobak.kz
DTSTART:20260304T090000Z
DTEND:20260304T100000Z
DTSTAMP:20260224T073419Z
URL:https://eurobak.kz/events/23540/
SUMMARY:EUROBAK Inspirational Woman Talk
DESCRIPTION:Anna Derevyanko\, European Business Association UKRAINE\, Execu
 tive Director\, will explore resilient leadership\, strategic approach\, w
 omen in institutional roles\, and how to build influence at the intersecti
 on of business\, government and international dialogue.\n\nDate: 4 March 
 2026\n\nTime: 14:00–15:00\n\nFormat: Online\n\nLanguage: English\n\n&
 nbsp\;\n\nModerated Interview covering:\n\nResilient Leadership in Crisis 
 Contexts\n\nLeadership Skills &amp\; Professional Architecture\n\nStrategi
 c Vision &amp\; Institutional KPIs\n\nInstitutional vs. Corporate Leadersh
 ip\n\nWomen in International Leadership\n\nProfessional Path &amp\; Consci
 ous Career Choices\n\nMentorship\, Role Models &amp\; Inner Foundation\n\n
 Energy\, Sustainability &amp\; Personal Resource\n\nMission\, Legacy &amp\
 ; Long-Term Impact\n\nAudience Q&amp\;A (time permits) \n\n\nParticipants:
 \nThe event is open to members of the European Business Organization (EBO)
  World Wide Network and other Associations\n\nTo confirm your participatio
 n\, please complete the online registration by 3 March 2026.\n\nWe look f
 orward to welcoming you!\n\n&nbsp\;
CATEGORIES:Business
END:VEVENT
END:VCALENDAR