BEGIN:VCALENDAR
VERSION:2.0
PRODID:-//wp-events-plugin.com//7.2.3.1//EN
BEGIN:VEVENT
UID:227@eurobak.kz
DTSTART:20251010T060000Z
DTEND:20251010T064500Z
DTSTAMP:20251006T083048Z
URL:https://eurobak.kz/events/21751/
SUMMARY:Вебинар в рамках  комитета по цифров
 изации: «Внутренние угрозы и способы пре
 дотвращения утечки информации»
DESCRIPTION:Уважаемые представители компаний\
 , входящих в ЕВРОБАК\,\n\nЕВРОБАК приглаша
 ет вас принять участие в вебинар в рамка
 х  комитета по цифровизации: «Внутренни
 е угрозы и способы предотвращения утечк
 и информации»\n\nДата: 10 октября (пятница)
 Время: 11:00 – 12:00Формат: ОнлайнЯзык: Русс
 кийСпикер: Роман Гугняк\, архитектор по к
 ибербезопасности\, ТОО «ПАЦИФИКА» входя
 щей в группу компаний NoventiqОписание:\n\nДа
 же в самых технологичных компаниях чело
 веческий фактор остаётся слабым звеном. 
 Ошибки\, недостаточная осведомлённость\,
  а порой и умышленные действия сотрудник
 ов могут привести к утечке критически ва
 жной информации. Мы рассмотрим реальные 
 сценарии инсайдерских нарушений\, обсуд
 им\, как их можно предотвратить с помощью
  DLP-систем\, мониторинга и грамотного кон
 троля пользователей.\n\nВ рамках вебинара
  мы обсудим:\n\n 	кто такие внутренние нару
 шители: от неосведомлённых сотрудников 
 до сотрудников-инсайдеров\;\n 	практическ
 ие сценарии утечек внутри компании\;\n 	ка
 кие технологии контроля и DLP помогают ми
 нимизировать риски\;\n 	как сочетать безо
 пасность и доверие в корпоративной куль
 туре.\n\nВебинар будет полезен HR-директор
 ам\, руководителям юридических и ИТ-депа
 ртаментов\, а также специалистам по инфо
 рмационной безопасности.\n\n&nbsp\;\n\nДля под
 тверждения вашего участия\, пожалуйста\, 
 пройдите онлайн-регистрацию не позднее 
 9 октября.\n\n&nbsp\;\n\nБудем рады видеть вас н
 а вебинаре!\n\n&nbsp\;
CATEGORIES:Committies
END:VEVENT
END:VCALENDAR