BEGIN:VCALENDAR
VERSION:2.0
PRODID:-//wp-events-plugin.com//7.2.3.1//EN
BEGIN:VEVENT
UID:226@eurobak.kz
DTSTART:20251002T060000Z
DTEND:20251002T070000Z
DTSTAMP:20250930T100558Z
URL:https://eurobak.kz/events/21749/
SUMMARY:Вебинар в рамках комитета по цифров
 изации: «Конечные точки как главные цел
 и кибератак»
DESCRIPTION:Уважаемые представители компаний\
 , входящих в ЕВРОБАК\,\n\nЕВРОБАК приглаша
 ет вас принять участие в вебинар в рамка
 х  комитета по цифровизации: «Конечные 
 точки как главные цели кибератак»\n\nДата
 : 2 октября (четверг)Время: 11:00 – 12:00Формат
 : ОнлайнЯзык: РусскийСпикер: Алан Ибраги
 мов\, инженер по кибербезопасности\, ТОО 
 «ПАЦИФИКА» входящей в группу компаний Nov
 entiq\n\nОписание:\n\nКаждый ноутбук\, рабочая
  станция или смартфон сотрудника может с
 тать входной дверью для кибератак. Более
  70% атак начинаются именно с конечных уст
 ройств\, будь то фишинг\, установка вредо
 носного ПО или эксплуатация уязвимостей
 . На вебинаре мы подробно рассмотрим\, по
 чему конечные точки являются главным об
 ъектом кибератак\, какие методы использу
 ют злоумышленники\, и что происходит с би
 знесом\, когда защита оказывается слабой
 .\n\n&nbsp\;\n\nВ рамках вебинара мы обсудим:\n\n 
 	почему именно смартфоны\, ноутбуки и раб
 очие станции сотрудников так привлекате
 льны для злоумышленников\;\n 	какие сущес
 твуют типы кибератак на конечные точки\;\
 n 	чем грозит отсутствие защиты для бизне
 са\;\n 	как современные технологии EDR/XDR по
 могают предотвращать киберугрозы.\n\n&nbsp\;
 \n\nВебинар будет полезен IT-директорам\, р
 уководителям инфраструктурных и операц
 ионных подразделений\, специалистам по и
 нформационной безопасности.\n\n&nbsp\;\n\nДля 
 подтверждения вашего участия\, пожалуйс
 та\, пройдите онлайн-регистрацию не позд
 нее 1 октября.\n\n&nbsp\;\n\nБудем рады видеть в
 ас на вебинаре!\n\n&nbsp\;
CATEGORIES:Committies
END:VEVENT
END:VCALENDAR