BEGIN:VCALENDAR
VERSION:2.0
PRODID:-//wp-events-plugin.com//7.2.3.1//EN
BEGIN:VEVENT
UID:220@eurobak.kz
DTSTART:20250917T090000Z
DTEND:20250917T100000Z
DTSTAMP:20250915T091050Z
URL:https://eurobak.kz/events/21545/
SUMMARY:TBC Вебинаре в рамках Налогового коми
 тета:  «Персональные налоговые обязател
 ьства физических лиц в РК: Актуальные тр
 ебования и ключевые изменения с 1 января 
 2026 года / Personal tax obligations of Individuals in Kazakhstan: Cu
 rrent requirements and key changes effective January 1\, 2026»
DESCRIPTION:Уважаемые представители компаний\
 , входящих в ЕВРОБАК\,\n\nЕВРОБАК приглаша
 ет вас принять участие в вебинаре в рамк
 ах Налогового комитета:  «Персональные 
 налоговые обязательства физических лиц 
 в РК: Актуальные требования и ключевые и
 зменения с 1 января 2026 года / Personal tax obligatio
 ns of Individuals in Kazakhstan: Current requirements and key changes effe
 ctive January 1\, 2026»\n\nДата: 17 сентября  TBC\n\nВре
 мя: 14:00 – 15:00\n\nФормат: Онлайн\n\nЯзык: Русс
 кий\n\nСпикеры: \n\nДамира Рахимова - Mенедж
 ер / Damira Rakhimova - Manager -Vialto Partners\nАйгерим Мук
 ушева - Старший консультант / Aigerim Mukusheva - S
 enior Associate- Vialto Partners\nАлтынай Ахметова - Кон
 сультант / Altynay Akhmetova - Associate - Vialto Partners\n\n&nbs
 p\;\n\nДля подтверждения вашего участия\, п
 ожалуйста\, пройдите онлайн-регистрацию
  не позднее 16 сентября.\n\n&nbsp\;\n\n&nbsp\;\n\n&nbsp\;
CATEGORIES:Committies
END:VEVENT
END:VCALENDAR