BEGIN:VCALENDAR
VERSION:2.0
PRODID:-//wp-events-plugin.com//7.2.3.1//EN
BEGIN:VEVENT
UID:207@eurobak.kz
DTSTART:20250826T080000Z
DTEND:20250826T090000Z
DTSTAMP:20250818T112825Z
URL:https://eurobak.kz/events/21483/
SUMMARY:Вебинар в рамках налогового комитет
 а: «Изменения по всеобщему декларирован
 ию»
DESCRIPTION:Уважаемые представители компаний\
 , входящих в ЕВРОБАК\,\n\n\n\n\n\n\nЕВРОБАК при
 глашает вас принять участие в вебинар в 
 рамках налогового комитета: «Изменения 
 по всеобщему декларированию».Дата: 26 ав
 густа (вторник)Время: 13:00 – 14:00Формат: Онл
 айнЯзык: РусскийСпикер:Антон Пинчук\, Ст
 арший налоговый консультант\, Schneider Group&nbs
 p\;\n\nДля подтверждения вашего участия\, п
 ожалуйста\, пройдите онлайн-регистрацию
  не позднее 25 августа.\n\n&nbsp\;\n\nБудем рады 
 видеть вас на вебинаре!\n\n\n\n\n\n\n
CATEGORIES:Committies
END:VEVENT
END:VCALENDAR