BEGIN:VCALENDAR
VERSION:2.0
PRODID:-//wp-events-plugin.com//7.2.3.1//EN
BEGIN:VEVENT
UID:203@eurobak.kz
DTSTART:20250826T063000Z
DTEND:20250826T073000Z
DTSTAMP:20250825T095112Z
URL:https://eurobak.kz/events/21349/
SUMMARY:Вебинар в рамках HR Комитета: «новые п
 равила получения разрешений на работу в
 ступают в силу с 1 сентября 2025 года»
DESCRIPTION:Уважаемые представители компаний\
 , входящих в ЕВРОБАК\,\n\n\n\nЕВРОБАК пригла
 шает вас принять участие в вебинар в рам
 ках HR Комитета: «Новые правила получения
  разрешений на работу вступают в силу с 1 
 сентября 2025 года».Дата: 26 августа (вторни
 к)Время: 11:30 – 12:30Формат: ОнлайнЯзык: Рус
 скийСпикер:Асель Дусумова\, Старший Мене
 джер\, Vilato Partners\n\nВиктория Карабасова\, Ст
 арший Консультант\, Vilato Partners\n\n&nbsp\;\n\nС 1 с
 ентября 2025 года вступают в силу новые пр
 авила получения разрешений на работу в К
 азахстане. Приглашаем вас на вебинар\, гд
 е эксперты подробно расскажут об актуал
 ьных изменениях и их влиянии на бизнес-п
 роцессы.\n\n&nbsp\;\n\nТемы для обсуждения:\n\nН
 овые требования и процедуры оформления 
 разрешений на работу\n\nПрактические рек
 омендации для работодателей\n\nВлияние и
 зменений на текущих и новых иностранных 
 сотрудников\n\n&nbsp\;\n\nЦелевая аудитория:\n\
 nПредставители HR-департаментов\, специал
 исты по мобилити и миграции\, а также ино
 странные сотрудники и компании\, в штате 
 которых есть иностранный персонал.\n\nДля
  подтверждения вашего участия\, пожалуйс
 та\, пройдите онлайн-регистрацию не позд
 нее 25 августа.\n\n&nbsp\;\n\nБудем рады видеть 
 вас на вебинаре!\n\n&nbsp\;\n\n\n\n\n&nbsp\;\n\n&nbsp\;\n\n&n
 bsp\;
CATEGORIES:Committies
END:VEVENT
END:VCALENDAR