BEGIN:VCALENDAR
VERSION:2.0
PRODID:-//wp-events-plugin.com//7.2.3.1//EN
BEGIN:VEVENT
UID:75@eurobak.kz
DTSTART:20240223T050000Z
DTEND:20240223T060000Z
DTSTAMP:20240209T075209Z
URL:https://eurobak.kz/events/15454/
SUMMARY:WEBINAR: Using Chat GPT in business
DESCRIPTION:Using Chat GPT in business
CATEGORIES:Committies
END:VEVENT
END:VCALENDAR