BEGIN:VCALENDAR
VERSION:2.0
PRODID:-//wp-events-plugin.com//7.2.3.1//EN
BEGIN:VEVENT
UID:50@eurobak.kz
DTSTART:20231011T033000Z
DTEND:20231011T060000Z
DTSTAMP:20231214T031849Z
URL:https://eurobak.kz/events/13819/
SUMMARY:Tax audit and cameral control in the Republic of Kazakhstan: latest
  trends\, Atyrau
DESCRIPTION:We would like to invite you to a business meeting in Atyrau\, a
 rranged along with EY\, and Petrocouncil.kz and dedicated to the discussio
 n of tax issues.
CATEGORIES:Committies
LOCATION:Renaissance Atyrau Hotel\, Kanysh Satpayev Avenue\, 15 B\, Atyrau\
 , Kazakhstan\, Kazakhstan
X-APPLE-STRUCTURED-LOCATION;VALUE=URI;X-ADDRESS=Kanysh Satpayev Avenue\, 15
  B\, Atyrau\, Kazakhstan\, Kazakhstan;X-APPLE-RADIUS=100;X-TITLE=Renaissan
 ce Atyrau Hotel:geo:0,0
END:VEVENT
END:VCALENDAR