BEGIN:VCALENDAR
VERSION:2.0
PRODID:-//wp-events-plugin.com//7.2.3.1//EN
BEGIN:VEVENT
UID:47@eurobak.kz
DTSTART:20230928T070000Z
DTEND:20230928T083000Z
DTSTAMP:20230926T073313Z
URL:https://eurobak.kz/events/13778/
SUMMARY:Meeting on public procurement issues
DESCRIPTION:Public procurement and its legislative regulation
CATEGORIES:Business
END:VEVENT
END:VCALENDAR