BEGIN:VCALENDAR
VERSION:2.0
PRODID:-//wp-events-plugin.com//7.2.3.1//EN
BEGIN:VEVENT
UID:21@eurobak.kz
DTSTART:20230425T090000Z
DTEND:20230425T100000Z
DTSTAMP:20230411T104127Z
URL:https://eurobak.kz/events/13113/
SUMMARY:EUROBAK Digital Committee: elections of the Executive Team
DESCRIPTION:During this meeting we would elect the Executive Team for Digit
 al Committee and set an action plan for 2023.
CATEGORIES:Committies
END:VEVENT
END:VCALENDAR