BEGIN:VCALENDAR
VERSION:2.0
PRODID:-//wp-events-plugin.com//7.2.3.1//EN
BEGIN:VEVENT
UID:223@eurobak.kz
DTSTART:20250924T030000Z
DTEND:20250924T110000Z
DTSTAMP:20250827T150402Z
URL:https://eurobak.kz/events/%d1%86%d0%b5%d0%bd%d1%82%d1%80%d0%b0%d0%bb%d
 1%8c%d0%bd%d0%b0%d1%8f-%d0%b0%d0%b7%d0%b8%d1%8f-%d0%bd%d0%be%d0%b2%d0%b0%d
 1%8f-%d0%b0%d1%80%d0%b5%d0%bd%d0%b0-%d0%b3%d0%bb%d0%be%d0%b1%d0%b0%d0%bb%d
 1%8c/
SUMMARY:Центральная Азия: новая арена глобал
 ьного капитала
DESCRIPTION:\n\n&nbsp\;\n\n24 сентября 2025 года форум К2
 5 станет точкой притяжения глобального д
 елового сообщества.\n\nKazakhstan Growth Forum (KGF)\, к
 оторому исполняется 15 лет\, соберет лиде
 ров мировой экспертизы и ключевых игрок
 ов Центральной Азии\, чтобы обсудить\, ка
 к трансформируется экономика региона и 
 какие новые индустрии определят будущее
 .\n\nЗа 15 лет форум стал символом развития 
 бизнес-сообщества Казахстана\, площадко
 й\, где формируются партнерства\, заключа
 ются сделки и рождаются идеи\, меняющие э
 кономику региона. В этом году KGF вновь об
 ъединит более 500 топ-менеджеров\, инвесто
 ров\, представителей международных инст
 итутов и глобальных корпораций.\n\nПочему
  именно Центральная Азия?\nРегион стабил
 ьно растет и становится естественным мо
 стом между крупнейшими мировыми рынками
  — Китаем\, ЕС\, Россией\, Южной Азией и Бл
 ижним Востоком. Свыше 78 млн человек сего
 дня\, более 114 млн к 2050 году — это населен
 ие моложе 30 лет\, digital-native\, активно инвест
 ирующее в технологии и потребление. Межд
 ународные институты уже смотрят сюда ка
 к на новый рынок масштабных возможносте
 й.\n\nOnly in KGF experience К25: глобальный интеллек
 т и местная практика\nНа одной площадке в
 стретятся представители EBRD\, IFC\, McKinsey\, BCG
 \, Amazon Web Services\, IMD и Big4. От глобальных тренд
 ов — к региональным решениям\, от аналит
 ики — к управленческим инсайтам:\n\n 	IMD п
 редставит свежую аналитику конкурентос
 пособности стран Центральной Азии —в ср
 авнении с мировыми лидерами.\n 	McKinsey пока
 жет\, как Generative AI меняет не только компан
 ии\, но и целые отрасли — от финансов до п
 роизводства.\n 	EBRD поделится практиками 
 корпоративного управления\, которые пом
 огают бизнесу выдерживать турбулентнос
 ть и привлекать капитал.\n 	BCG представит 
 стратегические сценарии развития Центр
 альной Азии и Каспийского региона до 2035 
 года\, подготовленные совместно с Global Cente
 r for Geopolitics. Это исследование опирается на
  десятки интервью с инвесторами и бизнес
 -лидерами и впервые обозначит\, какую рол
 ь в меняющемся глобальном порядке может 
 сыграть Казахстан.\n\nГлавная аудитория К
 25 — это CEO и первые лица компаний.\nПо дан
 ным Centras-500\, топ-10 компаний формируют 90% ч
 истой прибыли Казахстана. Их решения опр
 еделяют вектор для всей экономики. Именн
 о поэтому К25 становится главной точкой п
 ритяжения для лидеров\, которые не боятс
 я говорить о самом сложном.\n\n«Быть CEO — з
 начит принимать сложные решения в услов
 иях постоянной турбулентности. На форум
 е мы создаем пространство для диалога\, г
 де лидеры могут обсудить самые острые ди
 леммы и найти ответы вместе»\, — подчерк
 ивает Ельдар Абдразаков\, основатель Centra
 s Group и председатель KGF.\n\nПочему важно быт
 ь здесь\n\nЗа годы существования KGF стал н
 е только ведущим деловым событием Казах
 стана\, но и эксклюзивной точкой входа в 
 регион для глобального бизнеса. Форум фо
 рмирует неформальную\, но влиятельную се
 ть лидеров\, которая продолжает устойчив
 о работать даже после закрытия мероприя
 тия.\n\nДата: 24 сентября 2025 года\nМесто: Rixo
 s Almaty Hotel\n\nРегистрация открыта. Подробно
 сти на сайте\n\n&nbsp\;\n\nKazakhstan Growth Forum 2025 — must
 -go событие для первых лиц бизнеса\n\n&nbsp\;\n\
 nKazakhstan Growth Forum 2025 — это больше\, чем юбиле
 й. Это must-go событие года для бизнес-лидер
 ов\, где кристаллизуются идеи\, формирует
 ся стратегия и рождается будущее эконом
 ики Центральной Азии.\n\n📍 Дата и место п
 роведения: 24 сентября 2025 года\, Алматы\n🔗
  [Регистрация на К25]\n\nДля кого этот фору
 м\n\nKGF — это площадка для тех\, кто приним
 ает решения и формирует будущее компани
 й и отраслей. Здесь встречаются руководи
 тели крупнейших казахстанских и междуна
 родных компаний\, представители инвесто
 ров\, консультанты и лидеры общественных
  институтов.\n\nФорум станет местом\, где 
 определяется\, каким будет Казахстански
 й бизнес завтра.\n\nКаждое выступление — 
 это не просто доклад\, а возможность усл
 ышать идеи\, которые формируют повестку 
 бизнеса на годы вперед.
CATEGORIES:Non-EUROBAK event
END:VEVENT
END:VCALENDAR