BEGIN:VCALENDAR
VERSION:2.0
PRODID:-//wp-events-plugin.com//7.2.3.1//EN
BEGIN:VEVENT
UID:187@eurobak.kz
DTSTART:20250528T190000Z
DTEND:20250528T190000Z
DTSTAMP:20250514T132309Z
URL:https://eurobak.kz/events/%d1%84%d0%be%d1%80%d1%83%d0%bc-crevolution-%
 d1%80%d1%8b%d0%bd%d0%be%d0%ba-%d0%be%d1%84%d0%b8%d1%81%d0%bd%d0%be%d0%b9-%
 d0%bd%d0%b5%d0%b4%d0%b2%d0%b8%d0%b6%d0%b8%d0%bc%d0%be%d1%81%d1%82%d0%b8/
SUMMARY:форум «CREVOLUTION. Рынок офисной недвижи
 мости Казахстана – что будет завтра?»
DESCRIPTION:Уважаемые коллеги\, добрый день!\n\n&
 nbsp\;\n\n29 мая в Novotel City Center в Алматы пройдет 
 форум «CREVOLUTION. Рынок офисной недвижимост
 и Казахстана – что будет завтра?»\, орган
 изованный компанией Bright Rich | CORFAC International. 
 Это закрытое мероприятие для лидеров ры
 нка офисной недвижимости Казахстана\, в 
 котором примут участие владельцы и топ-м
 енеджеры крупных локальных и международ
 ных компаний.\n\nНа форуме будут обсуждат
 ься следующие темы:\n\n◦ Итоги развития р
 ынка классических и сервисных офисов Ка
 захстана в 2024-начале 2025 года\n\n◦ Новые де
 велоперские проекты\n\n◦ Динамика ставок
  аренды и уровня вакансии\n\n◦ Драйверы л
 окального офисного рынка и ключевые сде
 лки\n\n◦ Объем ввода новых площадей в 2025 г
 оду\n\n&nbsp\;\n\nСпикерами мероприятия стану
 т:\n\n◦ Артемий Пестовский\, партнер\, дире
 ктор Bright Rich | CORFAC International Kazakhstan\n\n◦ Таир Б
 алгабеков\, CEO Capital Partners\n\n◦ Леонид Волох\,
  генеральный директор\, соучредитель Lynks 
 Property Management\n\n◦ Алмас Идрисов\, генеральн
 ый директор фонда недвижимости TSPG\n\n◦ Лу
 каш Сковроньски\, директор инвестиционн
 ой компании Global Development\n\n◦ Артур Сотнико
 в\, заместитель директора Bright Rich | CORFAC Intern
 ational Kazakhstan\n\n◦ Елдос Момынов\, генеральны
 й директор сети Cloud Office\n\n◦ Владимир Шевц
 ов\, управляющий партнер сети сервисных 
 офисов Rice\n\n◦ Диас Кожатаев\, CEO Most IT Hub\n\nП
 осмотреть программу и зарегистрировать
 ся на мероприятие можно по ссылке 
CATEGORIES:Non-EUROBAK event
END:VEVENT
END:VCALENDAR