BEGIN:VCALENDAR
VERSION:2.0
PRODID:-//wp-events-plugin.com//7.2.3.1//EN
BEGIN:VEVENT
UID:252@eurobak.kz
DTSTART:20251119T180000Z
DTEND:20251119T180000Z
DTSTAMP:20251031T125918Z
URL:https://eurobak.kz/events/%d1%81%d1%82%d0%b0%d0%bd%d1%8c%d1%82%d0%b5-%
 d0%bb%d0%b8%d0%b4%d0%b5%d1%80%d0%be%d0%bc-%d0%b2-%d0%bf%d0%be%d1%82%d0%be%
 d0%ba%d0%b5/
SUMMARY:Станьте лидером в потоке
DESCRIPTION:\n\nВстречайте Золтана Бузади на XIII 
 Kazakhstan HR Forum\n\nВ условиях гиперконкуренци
 и и цифровой трансформации впереди оста
 ются только те лидеры\, кто умеет создава
 ть вдохновляющую среду. Именно о таком л
 идерстве\, которое движется в состоянии 
 «потока» — мы поговорим 20 ноября 2025 года
  на главном HR-событии года в Алматы.\n\nЦен
 тральным событием XIII Kazakhstan HR Forum станет в
 ыступление мирового эксперта\, профессо
 ра Золтана Бузади. Возглавляя глобальну
 ю исследовательскую сеть «Leadership &amp\; Flow»\
 , основанную легендарным психологом Мих
 аем Чиксентмихайи\, автором культовой кн
 иги «Поток: Психология оптимального пер
 еживания»\, Бузади привозит в Казахстан 
 инновационную концепцию «Flow Leadership».\n\nОс
 нователь теории\, профессор Чиксентмиха
 йи\, лично отмечает ключевую роль Золтан
 а: «Я очень впечатлен глобальным охватом
  и академическим вкладом Золтана. Он явл
 яется ключевым участником и движущей си
 лой нашего стремления привнести больше 
 смысла в жизнь людей в целом\, создать ра
 бочие места\, которые будут устойчивыми 
 для человечества\, короче говоря\, найти 
 способы привнести больше потока и творч
 ества в будущие поколения лидеров и мене
 джеров». Для углубленного погружения пр
 офессор Бузади также проведет эксклюзив
 ный мастер-класс для VIP-гостей.\n\n· В рамк
 ах XIII Kazakhstan HR Forum пройдет выступление и м
 астер-класс Золтана Бузади. Регистрация 
 на форум здесь: https://clck.ru/3PeomJ\n\nЧто еще жде
 т участников? Много интересного и полезн
 ого\, ведь XIII Kazakhstan HR Forum — это не столько 
 про теорию\, сколько про практику. Вместе
  с партнерами — EasyTap Business\, Alga Payment\, OLX Раб
 ота и Talent Craft — мы подготовили насыщенну
 ю программу\, которая определяет тренды 
 рынка труда на 2026 год и далее.\n\nВ фокусе 
 дня — ваши самые острые вызовы:\n\n· Инсай
 ды от Ельдара Абдразакова (KGF)\, который р
 аскроет секреты TOP-100 CEO и разведет поняти
 я реактивного «обучения» и проактивной 
 «подготовки» к будущему.\n\n· Взгляд на во
 йну за таланты от Олега Ханина (Kommesk) в ре
 алиях новой реальности.\n\n· Практическое
  руководство по использованию ИИ в HR от Р
 услана Егембаева (Thea\, Singapore) — от гипотез
  до работающих кейсов.\n\n· Откровенная ди
 скуссия «MANAGEMENT: SMARTER THAN BOSS» о том\, как и з
 ачем собирать вокруг себя команду умнее 
 себя.\n\nТрансформация для каждого участн
 ика:\n\n· Церемония «The Best HRD 2025»: Мы выбере
 м и наградим лучших HR-директоров страны. 
 Если вы создавали прорывные HR-проекты\, п
 одайте заявку до 10 ноября\, чтобы войти в 
 историю.\n\n· C-Mentoring: Задайте свои вопросы 
 и получите 15 минут личного совета от гур
 у индустрии.\n\n· Практические Case Studies: Чет
 ыре параллельных трека решат ваши конкр
 етные задачи — от поиска талантов через 
 соцсети (TALENT QUEST) до построения HR-бренда в
  эпоху недоверия (BRAND POWER).\n\nЗавершим день
  панелью «Upskilling: как персонал вывести на 
 новый уровень» и продолжим общение в неф
 ормальной обстановке на вечернем коктей
 ль-приеме.\n\nXIII Kazakhstan HR Forum — это ваша воз
 можность не просто узнать о трендах\, а с
 оздать будущее HR вместе с Золтаном Бузад
 и и ведущими экспертами региона.\n\nВстре
 чаемся 20 ноября 2025 года в Narxoz Business School (г. 
 Алматы\, ул. Жандосова\, 55). Забронируйте у
 частие по ссылке: https://clck.ru/3PeomJ
CATEGORIES:Non-EUROBAK event
END:VEVENT
END:VCALENDAR