BEGIN:VCALENDAR
VERSION:2.0
PRODID:-//wp-events-plugin.com//7.2.3.1//EN
BEGIN:VEVENT
UID:173@eurobak.kz
DTSTART:20250410T090000Z
DTEND:20250411T120000Z
DTSTAMP:20250326T122908Z
URL:https://eurobak.kz/events/%d1%81%d0%b5%d0%bc%d0%b8%d0%bd%d0%b0%d1%80-p
 wc-%d0%ba%d0%b0%d0%b7%d0%b0%d1%85%d1%81%d1%82%d0%b0%d0%bd-%d1%82%d1%80%d0%
 b0%d0%bd%d1%81%d1%84%d0%b5%d1%80%d1%82%d0%bd%d0%be%d0%b5-%d1%86%d0%b5%d0%b
 d/
SUMMARY:Семинар PwC Казахстан “Трансфертное 
 ценообразование: текущие споры\, изменен
 ия в законодательстве и новые требовани
 я по отчетности”
DESCRIPTION:Дата: 10 -11 апреля 2025 года\nВремя: 14:00 
 - 17:00\nСтоимость: 448 000 тенге (включая НДС)\n
 Формат: очный\, город Алматы (Аль-Фараби 34
 \, офис PwC)\nСеминар будет проводиться на р
 усском языке\n\nПодробнее о программе: https
 ://www.pwc.com/kz/en/transfer-pricing-10-11-april-2025-final.pdf\nСсыл
 ка на регистрацию: https://forms.office.com/r/iuLtiYT9iS
CATEGORIES:Non-EUROBAK event
END:VEVENT
END:VCALENDAR