BEGIN:VCALENDAR
VERSION:2.0
PRODID:-//wp-events-plugin.com//7.2.3.1//EN
BEGIN:VEVENT
UID:174@eurobak.kz
DTSTART:20250417T050000Z
DTEND:20250418T110000Z
DTSTAMP:20250326T131028Z
URL:https://eurobak.kz/events/%d1%81%d0%b5%d0%bc%d0%b8%d0%bd%d0%b0%d1%80-p
 wc-%d0%ba%d0%b0%d0%b7%d0%b0%d1%85%d1%81%d1%82%d0%b0%d0%bd-%d0%bf%d1%83%d1%
 82%d0%b5%d0%b2%d0%be%d0%b4%d0%b8%d1%82%d0%b5%d0%bb%d1%8c-%d0%bf%d0%be-%d0%
 bc/
SUMMARY:Семинар PwC Казахстан &#8220\;Путеводите
 ль по международному налогообложению: о
 т основ до хардкора&#8221\;
DESCRIPTION:Дата: 17-18 апреля 2025 года\nВремя:\n- 17 
 апреля: 10:00 - 16:00\n- 18 апреля: 10:00 - 13:00\nСтоим
 ость: 380 000 (включая НДС).\nФормат: очный\, г.
  Астана. Ближе к дате семинара мы сообщим
  подробности о месте его проведения.\nСем
 инар будет проводиться на русском языке\
 nКоличество мест ограничено\n\nПодробнее 
 о программе: https://www.pwc.com/kz/en/17-18-april-2025.pdf\nС
 сылка на регистрацию: https://forms.office.com/r/v92fGF2
 18X
CATEGORIES:Non-EUROBAK event
END:VEVENT
END:VCALENDAR