BEGIN:VCALENDAR
VERSION:2.0
PRODID:-//wp-events-plugin.com//7.2.3.1//EN
BEGIN:VEVENT
UID:158@eurobak.kz
DTSTART:20250221T060000Z
DTEND:20250221T060000Z
DTSTAMP:20250205T082914Z
URL:https://eurobak.kz/events/%d1%80%d0%b0%d0%b1%d0%be%d1%87%d0%b0%d1%8f-%
 d0%b2%d1%81%d1%82%d1%80%d0%b5%d1%87%d0%b0-hr-%d0%ba%d0%be%d0%bc%d0%b8%d1%8
 2%d0%b5%d1%82%d0%b0/
SUMMARY:Рабочая встреча HR Комитета
DESCRIPTION:Уважаемые представители компаний\
 , входящих в ЕВРОБАК\,\n\n&nbsp\;\n\nПриглашаем 
 вас принять участие в рабочей встрече HR 
 Комитета по важному\, на наш взгляд\, вопр
 осу\, который необходимо рассмотреть в р
 амках работы Комитета в ближайшее время 
 и предпринять меры:\n\n&nbsp\;\n\n«Приложение 4
  к приказу МЗ РК от 15 октября 2020 года № КР
  ДСМ-131/2020» о требовании обязательных мед
 ицинских осмотров сотрудников\, работаю
 щих за ПК не менее 50% рабочего времени»\n\n
 &nbsp\;\n\nПроблематика: риски потери работы 
 для сотрудников и сложности для компани
 й в связи с необходимостью перевода таки
 х сотрудников на другие должности или во
 зможного увольнения.\n\n&nbsp\;\n\nДата: 21 февр
 аля\, 2025\n\n \n\nВремя: 11:00\n\n \n\nФормат: Онлай
 н\n\n&nbsp\;\n\nНам очень важно\, чтобы все учас
 тники HR Комитета активно включились в ра
 боту\, так как данный вопрос затрагивает 
 различные сферы деятельности и непосред
 ственно касается как работников\, так и р
 аботодателей.\n\n&nbsp\;
CATEGORIES:Committies
END:VEVENT
END:VCALENDAR