BEGIN:VCALENDAR
VERSION:2.0
PRODID:-//wp-events-plugin.com//7.2.3.1//EN
BEGIN:VEVENT
UID:229@eurobak.kz
DTSTART:20250926T030000Z
DTEND:20250926T133000Z
DTSTAMP:20250911T113211Z
URL:https://eurobak.kz/events/%d0%bf%d1%80%d0%be%d0%b3%d1%80%d0%b0%d0%bc%d
 0%bc%d0%b0-%d1%84%d0%be%d1%80%d1%83%d0%bc%d0%b0-altai-invest-2025-%d0%b2%d
 0%be%d1%81%d1%82%d0%be%d1%87%d0%bd%d1%8b%d0%b9-%d0%ba%d0%b0%d0%b7%d0%b0/
SUMMARY:ПРОГРАММА ФОРУМА ALTAI INVEST 2025: «ВОСТОЧН
 ЫЙ КАЗАХСТАН &#8211\; НОВЫЕ ГОРИЗОНТЫ РОСТА
 »
DESCRIPTION:[embeddoc url="https://eurobak.kz/wp-content/uploads/2025/09/П
 РОГРАММА-ФОРУМА-ALTAI-INVEST-2025_060925.pdf"]\n\n&nbsp\;
CATEGORIES:Non-EUROBAK event
END:VEVENT
END:VCALENDAR