BEGIN:VCALENDAR
VERSION:2.0
PRODID:-//wp-events-plugin.com//7.2.3.1//EN
BEGIN:VEVENT
UID:133@eurobak.kz
DTSTART:20241108T093000Z
DTEND:20241108T123000Z
DTSTAMP:20241029T042901Z
URL:https://eurobak.kz/events/%d0%bc%d0%b5%d1%80%d0%be%d0%bf%d1%80%d0%b8%d
 1%8f%d1%82%d0%b8%d0%b5-%d0%b2-%d1%80%d0%b0%d0%bc%d0%ba%d0%b0%d1%85-hr-%d0%
 ba%d0%be%d0%bc%d0%b8%d1%82%d0%b5%d1%82%d0%b0-%d0%bd%d0%b0-%d1%82%d0%b5%d0%
 bc%d1%83/
SUMMARY:Мероприятие в рамках HR Комитета на т
 ему «Составляющие благополучия»
DESCRIPTION:Уважаемые компании\, входящие в ЕВ
 РОБАК\,\n\n \n\nРады пригласить вас на мероп
 риятие в рамках HR Комитета на тему «Сост
 авляющие благополучия»\, где вас ждут вы
 ступления от ведущих экспертов в област
 и корпоративного здоровья.\n\n \n\nДата: 8 н
 оября (пятница)\n\nВремя: 14:30 - 17:30\n\nМесто: Te
 chnogym Experience Center Almaty (Рахмадиева\, 3)\n\nЯзык: 
 русский\n\n \n\nНа мероприятии вы узнаете\, 
 как поддерживать благополучие сотрудни
 ков и развивать корпоративное здоровье 
 с помощью инновационных решений и подхо
 дов. У вас будет возможность не только по
 лучить новые знания\, но и пообщаться с к
 оллегами из HR-сообщества\, обменяться ид
 еями и наладить новые контакты.\n\n \n\nУча
 стников ждут выступления на следующие т
 емы:\n\n \n\n 	Управление стрессом для сотру
 дников и руководителей – Иван Адамидис\,
  эксперт в области биохимии стресса. Спе
 циалист по биохимии и функциональному п
 итанию. Предприниматель. Бизнес-наставн
 ик. Специалист по аналитической и лабора
 торной медицине (Университет прикладных
  наук\, Афины). Выпускник курса "Диетологи
 я и клиническая нутрициология" ФНМО Меди
 цинского института РУДН.\n\n \n\n 	Практика 
 заботы о себе через осознанность – Сама
 не Мадда\, сертифицированный инструктор 
 по осознанности\, специалист MBSR\, магистр
  наук по доказательным социальным интер
 венциям. (Выступление на английском язык
 е\, без перевода).\n\n \n\n 	Technogym Corporate Wellness –
  Горелик Василий и Ердаулетова Жанель\, с
 отрудники Technogym Experience Center Almaty\, расскажут
  о решениях для корпоративного благопол
 учия.\n\n \n\nКоличество мест ограничено. Д
 ля участия\, пожалуйста\, зарегистрируйт
 есь онлайн не позднее 6 ноября.
CATEGORIES:Committies
END:VEVENT
END:VCALENDAR