BEGIN:VCALENDAR
VERSION:2.0
PRODID:-//wp-events-plugin.com//7.2.3.1//EN
BEGIN:VEVENT
UID:233@eurobak.kz
DTSTART:20251001T103000Z
DTEND:20251001T160000Z
DTSTAMP:20250930T114438Z
URL:https://eurobak.kz/events/%d0%bb%d0%b8%d1%82%d0%be%d0%b2%d1%81%d0%ba%d
 0%be-%d0%ba%d0%b0%d0%b7%d0%b0%d1%85%d1%81%d1%82%d0%b0%d0%bd%d1%81%d0%ba%d0
 %b8%d0%b9-%d0%b1%d0%b8%d0%b7%d0%bd%d0%b5%d1%81-%d1%84%d0%be%d1%80%d1%83%d0
 %bc/
SUMMARY:Литовско-Казахстанский бизнес-форум
  Деловой Совет Литва-Казахстан
DESCRIPTION:[embeddoc url="https://eurobak.kz/wp-content/uploads/2025/09/01
 .10.2025_Программа-бизнес-форума-Литва-Каза
 хстан_Bank-BCC_Almaty_на-19.09-1.pdf"]\n\nПОЖАЛУЙСТА\, О
 БРАТИТЕ ВНИМАНИЕ\, Регистрируясь на мер
 оприятие\, участники дают согласие на об
 работку и использование своих персональ
 ных данных (ФИО\, должность\, наименовани
 е организации) для предоставления их в г
 осударственные органы при необходимост
 и и по их запросу.\n\n[embeddoc url="https://eurobak.kz/wp-co
 ntent/uploads/2025/09/ЛИТОВСКАЯ-БИЗНЕС-ДЕЛЕГАЦИЯ-
 в-гАлматы_0930-1002__250923_122013.pdf"]
CATEGORIES:Non-EUROBAK event
END:VEVENT
END:VCALENDAR