BEGIN:VCALENDAR
VERSION:2.0
PRODID:-//wp-events-plugin.com//7.2.3.1//EN
BEGIN:VEVENT
UID:236@eurobak.kz
DTSTART:20251021T190000Z
DTEND:20251021T190000Z
DTSTAMP:20250923T130002Z
URL:https://eurobak.kz/events/%d0%ba%d0%be%d0%bd%d1%84%d0%b5%d1%80%d0%b5%d
 0%bd%d1%86%d0%b8%d1%8f-niq-consumer-life-%d0%b0%d0%bb%d0%bc%d0%b0%d1%82%d1
 %8b-22-%d0%be%d0%ba%d1%82%d1%8f%d0%b1%d1%80%d1%8f/
SUMMARY:Конференция NIQ Consumer Life – Алматы\, 22 о
 ктября
DESCRIPTION:NielsenIQ приглашает на конференцию Cons
 umer Life Kazakhstan 2025\, где эксперты NIQ поделятся
  результатами синдикативного исследова
 ния Consumer Life\, направленного на всесторон
 нее изучение потребителя в Казахстане.\n\
 nЭти данные помогут вам лучше понять каз
 ахстанского потребителя\, его ценности\, 
 отношение к жизни\, потребление медиа и п
 ривычки\, для выстраивания эффективной с
 тратегии построения бренда и маркетинг-
 коммуникации в стране.\n\nВ программе кон
 ференции:\n\n 	Основные тренды потреблени
 я\n 	Казахстанский потребитель в глобаль
 ном контексте: Чем местные потребители о
 тличаются от глобальных\n 	Казахстанцы в 
 поколенческой и региональной призме: Ан
 ализ различий ценностей\, поведения\, пок
 упательских привычек между поколениями 
 (Gen Z\, Millenials\, Gen X\, Boomers) и в разрезе реги
 онов\n 	Построение брендинга и коммуника
 ции: Экспертные презентации с рекоменда
 циями\, опыт приглашенных спикеров с усп
 ешными кейсами построения релевантного 
 бренда\n\nЭто эксклюзивное мероприятие п
 ризвано снабдить ваш бренд практическим
 и знаниями и стратегическим прогнозиров
 анием на быстро развивающемся рынке.\n\nД
 ата: 22 октября\nМесто: Novotel Almaty City Center\, А
 лматы\n\n&nbsp\;\n\nПройдите по ссылке для рег
 истрации на мероприятие: по ссылке\n\n
CATEGORIES:Non-EUROBAK event
END:VEVENT
END:VCALENDAR