BEGIN:VCALENDAR
VERSION:2.0
PRODID:-//wp-events-plugin.com//7.2.3.1//EN
BEGIN:VEVENT
UID:185@eurobak.kz
DTSTART:20250522T110000Z
DTEND:20250522T123000Z
DTSTAMP:20250514T130233Z
URL:https://eurobak.kz/events/%d0%ba%d0%be%d0%bc%d0%b0%d0%bd%d0%b4%d0%b0-w
 ellgo-%d0%bf%d1%80%d0%b8%d0%b3%d0%bb%d0%b0%d1%88%d0%b0%d0%b5%d1%82-%d0%bd%
 d0%b0-%d1%81%d0%b5%d0%bc%d0%b8%d0%bd%d0%b0%d1%80-%d0%bd%d0%b0-%d1%82%d0%b5
 %d0%bc/
SUMMARY:Команда WELLGO приглашает на семинар на
  тему «Рынок международной логистики 2025:
  вызовы\, маршруты\, решения»!
DESCRIPTION:Семинар пройдет в рамках выставки 
 KIHE &amp\; PharmaTECH 2025 22 мая в 16:00-16:55 в Seminars Room\, П
 авильон 9\, КДЦС Атакент\, Алматы.\n\n&nbsp\;\n\n
 Мы обсудим ключевые глобальные тренды в 
 экономике и логистике\, которые оказываю
 т влияние на рынок Казахстана. Осветим г
 лавные маршруты международных перевозо
 к для сектора здравоохранения\, проанали
 зируем текущую ситуацию по направлениям
  и выделим важные особенности организац
 ии цепочек поставок.\n\nЦель семинара- сис
 тематизировать знания о рынке междунаро
 дной логистики и помочь участникам сдел
 ать практические выводы для своей работ
 ы. Слушатели получат свежую аналитику и 
 смогут обменяться опытом и проблематико
 й\, с которой сталкиваются при организац
 ии поставок.\n\n&nbsp\;\n\nУверены\, что семина
 р будет особенно полезен представителям
  отделов ВЭД и руководителям компаний\, к
 оторые осуществляют международные пост
 авки медицинских товаров.\n\n&nbsp\;\n\nБудем 
 рады видеть Вас на мероприятии!\n\nДля пос
 ещения семинара регистрируйтесь на сайт
 е и укажите промокод KIHPFBHDLT.\n\n&nbsp\;\n\n&nbsp\;
CATEGORIES:Non-EUROBAK event
END:VEVENT
END:VCALENDAR