BEGIN:VCALENDAR
VERSION:2.0
PRODID:-//wp-events-plugin.com//7.2.3.1//EN
BEGIN:VEVENT
UID:171@eurobak.kz
DTSTART:20250410T044500Z
DTEND:20250410T090000Z
DTSTAMP:20250319T165519Z
URL:https://eurobak.kz/events/%d0%b8%d0%bd%d1%84%d0%be%d1%80%d0%bc%d0%b0%d
 1%86%d0%b8%d0%be%d0%bd%d0%bd%d1%8b%d0%b5-%d1%82%d0%b5%d1%85%d0%bd%d0%be%d0
 %bb%d0%be%d0%b3%d0%b8%d0%b8-2025-%d0%b8%d0%bd%d0%bd%d0%be%d0%b2%d0%b0%d1%8
 6%d0%b8/
SUMMARY:Информационные технологии 2025: Иннов
 ации\, локализация и интеграция
DESCRIPTION:Уважаемые члены EUROBAK!\n\nМы рады при
 гласить Вас на предстоящую IT-конференци
 ю\, где Вас ждут актуальные и важные темы 
 в сфере информационных технологий. В рам
 ках мероприятия мы обсудим:\n\n 	Рынок инф
 ормационных технологий: тенденции и про
 гнозы развития в 2025 году.\n 	Локализация SA
 P и переход на 1С.\n 	Опыт интеграции ERP-реш
 ений (SAP/Oracle/1C) с 1С.\n 	Поддержка и развитие
  решений на базе 1С.\n 	Использование иску
 сственного интеллекта в IT-решениях.\n\nПр
 исоединяйтесь к нашему мероприятию\, что
 бы узнать о последних разработках\, обме
 няться опытом и получить новые знания. Н
 е упустите шанс стать частью обсуждения 
 ключевых аспектов в мире IT.\n\nМы будем ра
 ды видеть вас!\n\n&nbsp\;\n\nМероприятие пройд
 ет на русском языке. От одной компании мо
 гут зарегистрироваться до двух человек.\
 n\n&nbsp\;\n\nДля участия просим Вас зарегистр
 ироваться по данной ссылке: РЕГИСТРАЦИЯ
CATEGORIES:Non-EUROBAK event
END:VEVENT
END:VCALENDAR