BEGIN:VCALENDAR
VERSION:2.0
PRODID:-//wp-events-plugin.com//7.2.3.1//EN
BEGIN:VEVENT
UID:240@eurobak.kz
DTSTART:20251009T100000Z
DTEND:20251009T110000Z
DTSTAMP:20250930T093351Z
URL:https://eurobak.kz/events/%d0%b2%d0%b5%d0%b1%d0%b8%d0%bd%d0%b0%d1%80-%
 d0%b2-%d1%80%d0%b0%d0%bc%d0%ba%d0%b0%d1%85-hr-%d0%ba%d0%be%d0%bc%d0%b8%d1%
 82%d0%b5%d1%82%d0%b0-%d1%80%d1%8b%d0%bd%d0%be%d0%ba-%d1%82%d1%80%d1%83%d0%
 b4/
SUMMARY:Вебинар в рамках HR Комитета: &#8220\;Рын
 ок труда Казахстана 2025: ключевые тренды 
 и инсайты&#8221\;
DESCRIPTION:Уважаемые представители компаний\
 , входящих в ЕВРОБАК\,\n\nЕВРОБАК приглаша
 ет вас принять участие в вебинар в рамка
 х HR Комитет: "Рынок труда Казахстана 2025: к
 лючевые тренды и инсайты"\n\nДата:  9 октяб
 ря (четверг)\n\nВремя:  15:00 – 16:0\n\nФормат: О
 нлайн\n\nЯзык: Русский\n\n🔑 Почему важно у
 частвовать?\nAntal Kazakhstan уже более 10 лет про
 водит исследование рынка труда\, предост
 авляя HR-сообществу актуальные данные и а
 налитику для управленческих решений\, по
 дготовки бюджета и развития команд.\n\n&nbsp
 \;\n\nСпикер: Michael Germershausen\, Managing Director\, Antal Inte
 rnational for the Eurasian Region\n\n&nbsp\;\n\nВ программе ве
 бинара:\n\nДинамика заработных плат и ком
 пенсационных пакетов в различных сектор
 ах экономики\n\nИзменение мотивации сотр
 удников и факторов удержания персонала\n
 \nКак компании адаптируются к дефициту к
 адров и конкуренции за таланты\n\nВлияние
  поколенческих различий (Z\, Y\, X) на рынок 
 труда и HR-практики\n\nИспользование новых
  технологий и AI в HR-процессах\n\n👉 Не упус
 тите возможность первыми узнать ключевы
 е тренды и инсайты рынка труда Казахстан
 а!\n\n&nbsp\;\n\nДля подтверждения вашего учас
 тия\, пожалуйста\, пройдите онлайн-регис
 трацию не позднее 9 октября.\n\nБудем рады 
 видеть вас на вебинаре!\n\n&nbsp\;\n\n&nbsp\;
CATEGORIES:Committies
END:VEVENT
END:VCALENDAR