BEGIN:VCALENDAR
VERSION:2.0
PRODID:-//wp-events-plugin.com//7.2.3.1//EN
BEGIN:VEVENT
UID:205@eurobak.kz
DTSTART:20250910T060000Z
DTEND:20250910T070000Z
DTSTAMP:20250905T175417Z
URL:https://eurobak.kz/events/%d0%b2%d0%b5%d0%b1%d0%b8%d0%bd%d0%b0%d1%80-%
 d0%b2-%d1%80%d0%b0%d0%bc%d0%ba%d0%b0%d1%85-esg-%d0%ba%d0%be%d0%bc%d0%b8%d1
 %82%d0%b5%d1%82%d0%b0-%d1%80%d0%b0%d1%81%d1%88%d0%b8%d1%80%d0%b5%d0%bd%d0%
 b8/
SUMMARY:Вебинар в рамках ESG комитета: “Расши
 рение возможностей финансовых специали
 стов с помощью навыков в области устойчи
 вого развития”
DESCRIPTION:Уважаемые представители компаний\
 , входящих в ЕВРОБАК\,\n\n\n\nЕВРОБАК пригла
 шает вас принять участие в вебинар в рам
 ках ESG  Комитета: «Расширение возможнос
 тей финансовых специалистов с помощью н
 авыков устойчивого развития».Дата: 10 се
 нтября (среда)Время: 11:00 – 12:00Формат: Онл
 айнЯзык: РусскийСпикер:Гаухар Аширбеко
 ва\, Руководитель по связям с общественн
 остью по Евразии в АССАПрисоединяйтесь 
 к нашему вебинару\, посвященному развити
 ю навыков в области устойчивого развити
 я у финансовых специалистов\, где мы обсу
 дим\, как трансформируется роль бухгалте
 ров и финансовых специалистов в условия
 х устойчивого развития.&nbsp\;\n\nЦелевая ау
 дитория:\n\nВебинар ориентирован на HR-рук
 оводителей\, специалистов по обучению и 
 развитию персонала\, работодателей\, а та
 кже широкую аудитории финансовых специа
 листов. Вебинар поможет разобраться\, ка
 кие навыки и обучение необходимы финанс
 овым командам для эффективной работы в у
 словиях новых глобальных требований по 
 отчетности в области устойчивого развит
 ия (ESRS\, ISSB) и создания долгосрочной ценно
 сти бизнеса. От внедрения устойчивых биз
 нес-моделей до подготовки и заверения от
 четности в области устойчивого развития
  – вы узнаете\, как именно финансовые спе
 циалисты могут возглавить этот переход 
 и быть на шаг впереди самой большой тран
 сформации бухгалтерской профессии за по
 следние 30 лет.\n\nДля подтверждения вашег
 о участия\, пожалуйста\, пройдите онлайн-
 регистрацию не позднее 9 сентября.\n\n&nbsp\;\
 n\nБудем рады видеть вас на вебинаре!\n\n\n\n
CATEGORIES:Committies
END:VEVENT
END:VCALENDAR