BEGIN:VCALENDAR
VERSION:2.0
PRODID:-//wp-events-plugin.com//7.2.3.1//EN
BEGIN:VEVENT
UID:199@eurobak.kz
DTSTART:20250617T063000Z
DTEND:20250617T073000Z
DTSTAMP:20250604T091557Z
URL:https://eurobak.kz/events/%d0%b2%d0%b5%d0%b1%d0%b8%d0%bd%d0%b0%d1%80-%
 d0%b2-%d1%80%d0%b0%d0%bc%d0%ba%d0%b0%d1%85-esg-%d0%ba%d0%be%d0%bc%d0%b8%d1
 %82%d0%b5%d1%82%d0%b0-%d0%bf%d1%80%d0%b0%d0%ba%d1%82%d0%b8%d0%ba%d0%b0/
SUMMARY:Вебинар в рамках ESG Комитета: «Практи
 ка управления комплаенс-рисками в благо
 творительных проектах»
DESCRIPTION:Уважаемые представители компаний\
 , входящих в ЕВРОБАК\,\n\nЕВРОБАК приглаша
 ет вас принять участие в вебинар в рамка
 х ESG Комитета: «Практика управления комп
 лаенс-рисками в благотворительных проек
 тах».\n\nДата: 17 июня (вторник)\n\nВремя: 11:30 
 – 12:30\n\nФормат: Онлайн\n\nЯзык: Русский\n\n&n
 bsp\;\n\nEUROBAK совместно с Beeline Казахстан и Zhyly
  Zhurek Foundation приглашает вас на вебинар\, по
 священный управлению комплаенс-рисками 
 в благотворительной деятельности\, соци
 альных инвестициях и спонсорстве.\n\nВ хо
 де сессии эксперты поделятся практическ
 им опытом выявления и минимизации компл
 аенс-рисков в рамках благотворительных 
 проектов - тема\, которая становится все 
 более актуальной для бизнеса\, стремящег
 ося к прозрачности и честности в социаль
 ных инициативах.\n\nСпикеры:\n\n- Татьяна Ти
 мофеева\, старший менеджер по этике и ком
 плаенсу\, ТОО «КаР-Тел» (Beeline Казахстан / VE
 ON / Zhyly Zhurek Foundation)\n- Сауле Ахмедкарым\, ста
 рший эксперт по этике и соблюдению норм\,
  ТОО «КаР-Тел» (Beeline Казахстан / VEON)\n- Анар 
 Жумагулова\, Директор\, Корпоративный фо
 нд Zhyly Zhurek Foundation\n- Елена Мухсинова\, дирек
 тор по связям с общественностью\, ТОО «Ка
 Р-Тел»\n\n&nbsp\;\n\nВебинар будет особенно ин
 тересен руководству\, специалистам по ко
 мплаенсу и представителям функций завер
 ения.\n\nДля подтверждения вашего участия
 \, пожалуйста\, пройдите онлайн-регистра
 цию не позднее 16 июня.\n\n&nbsp\;\n\nБудем рады 
 видеть вас на вебинаре!\n\n&nbsp\;
CATEGORIES:Committies
END:VEVENT
END:VCALENDAR