BEGIN:VCALENDAR
VERSION:2.0
PRODID:-//wp-events-plugin.com//7.2.3.1//EN
BEGIN:VEVENT
UID:200@eurobak.kz
DTSTART:20250630T060000Z
DTEND:20250630T070000Z
DTSTAMP:20250605T121735Z
URL:https://eurobak.kz/events/%d0%b2%d0%b5%d0%b1%d0%b8%d0%bd%d0%b0%d1%80-%
 d0%b2-%d1%80%d0%b0%d0%bc%d0%ba%d0%b0%d1%85-esg-%d0%ba%d0%be%d0%bc%d0%b8%d1
 %82%d0%b5%d1%82%d0%b0-%d0%b4%d0%b5%d0%ba%d0%b0%d1%80%d0%b1%d0%be%d0%bd/
SUMMARY:Вебинар в рамках ESG комитета: «Декарб
 онизация на практике»
DESCRIPTION:Уважаемые представители компаний\
 , входящих в ЕВРОБАК\,\n\nЕВРОБАК приглаша
 ет вас принять участие в вебинаре в рамк
 ах ESG комитета: «Декарбонизация на практ
 ике».\n\nДата: 30 июня (понедельник)\n\nВремя:
  11:00 – 12:00\n\nФормат: Онлайн\n\nЯзык: Русски
 й\n\nСпикер: Илья Вульф\, Менеджер\, Услуги 
 в области изменения климата и устойчиво
 го развития\, EY\n\nО чем расскажем:\n\n1. Стра
 тегия декарбонизации\n2. ⁠практические ш
 аги в ключевых отраслях\n3. ⁠препятствия 
 и вызовы\n\n&nbsp\;\n\nДля подтверждения вашег
 о участия\, пожалуйста\, пройдите онлайн-
 регистрацию не позднее 28 июня.\n\n&nbsp\;\n\nБу
 дем рады видеть вас на вебинаре!
CATEGORIES:Committies
END:VEVENT
END:VCALENDAR