BEGIN:VCALENDAR
VERSION:2.0
PRODID:-//wp-events-plugin.com//7.2.3.1//EN
BEGIN:VEVENT
UID:198@eurobak.kz
DTSTART:20250630T073000Z
DTEND:20250630T083000Z
DTSTAMP:20250627T084709Z
URL:https://eurobak.kz/events/%d0%b2%d0%b5%d0%b1%d0%b8%d0%bd%d0%b0%d1%80-%
 d0%b2-%d1%80%d0%b0%d0%bc%d0%ba%d0%b0%d1%85-%d0%bd%d0%b0%d0%bb%d0%be%d0%b3%
 d0%be%d0%b2%d0%be%d0%b3%d0%be-%d0%ba%d0%be%d0%bc%d0%b8%d1%82%d0%b5%d1%82%d
 0%b0/
SUMMARY:Вебинар в рамках налогового комитет
 а: «Налоговая проверка: как пройти без до
 начислений»
DESCRIPTION:Уважаемые представители компаний\
 , входящих в ЕВРОБАК\,\n\nЕВРОБАК приглаша
 ет вас принять участие в вебинар в рамка
 х Комитета по налогам: «Налоговая провер
 ка: как пройти без доначислений».\n\nДата: 
 30 июня (понедельник)\n\nВремя: 12:30 – 13:30\n\nФ
 ормат: Онлайн\n\nЯзык: Русский\n\nСпикер: Л
 олита Закирова\, Сопредседатель Налогов
 ого комитета ЕВРОБАК\, Учредитель/Директ
 ор Axisa\n\n&nbsp\;\n\nО чем расскажем:\n\n-Как прав
 ильно подготовиться к налоговой проверк
 е?\n\n-Какие нюансы возникают при прохожде
 нии налоговой проверки?\n\n-Завершение на
 логовой проверки: что нужно сделать обяз
 ательно?\n\n-Что отличает ликвидационную 
 проверку от всех остальных?\n\n-ТОП 5 основ
 ных пунктов для успешного прохождения п
 роверки\n\n&nbsp\;\n\nПрецендент в Казахстане:
  Всё на примере прохождения комплексной 
 ликвидационной налоговой проверки круп
 ного налогоплательщика на мониторинге\n\
 n&nbsp\;\n\nДля подтверждения вашего участия\
 , пожалуйста\, пройдите онлайн-регистрац
 ию не позднее 27 июня.\n\n&nbsp\;\n\nБудем рады в
 идеть вас на вебинаре!\n\n&nbsp\;\n\n&nbsp\;
CATEGORIES:Committies
END:VEVENT
END:VCALENDAR