BEGIN:VCALENDAR
VERSION:2.0
PRODID:-//wp-events-plugin.com//7.2.3.1//EN
BEGIN:VEVENT
UID:224@eurobak.kz
DTSTART:20250926T060000Z
DTEND:20250926T070000Z
DTSTAMP:20250908T123248Z
URL:https://eurobak.kz/events/%d0%b2%d0%b5%d0%b1%d0%b8%d0%bd%d0%b0%d1%80-%
 d0%b2-%d1%80%d0%b0%d0%bc%d0%ba%d0%b0%d1%85-%d0%bd%d0%b0%d0%bb%d0%be%d0%b3%
 d0%be%d0%b2%d0%be%d0%b3%d0%be-%d0%ba%d0%be%d0%bc%d0%b8%d1%82%d0%b5%d1%82%d
 0%b0-2/
SUMMARY:Вебинар в рамках налогового комитет
 а: «Налоговые аспекты трансфертного цен
 ообразования\, риск менеджмент при транс
 граничных операциях»
DESCRIPTION:Уважаемые представители компаний\
 , входящих в ЕВРОБАК\,\n\n\n\nЕВРОБАК пригла
 шает вас принять участие в вебинар в рам
 ках налогового комитета: «Налоговые асп
 екты трансфертного ценообразования\, ри
 ск менеджмент при трансграничных операц
 иях»Дата: 26 сентября (пятница)Время: 11:00 
 – 12:00Формат: ОнлайнЯзык: РусскийСпикер:
 Екатерина Лазюк\, налоговый консультант 
 BPO\n\nТема актуальна для бизнеса: налоговы
 е риски при трансграничных операциях тр
 ебуют обсуждения и практических решений
 .В рамках вебинара участники узнают:\n* о 
 законодательной базе и требованиях к от
 чётности по ТЦО\;\n* о контролируемых сдел
 ках и методах определения рыночных цен\;\
 n* о ключевых налоговых рисках и валютном
  контроле при международных сделках\;\n* о
  практических кейсах и рекомендациях по 
 минимизации рисков.&nbsp\;\n\nМероприятие бу
 дет полезно для финансовых директоров\, 
 налоговых менеджеров\, юристов\, аудитор
 ов и представителей компаний\, ведущих т
 рансграничные операции.\n\n&nbsp\;\n\nДля подт
 верждения вашего участия\, пожалуйста\, п
 ройдите онлайн-регистрацию не позднее 25
  сентября.\n\n&nbsp\;\n\nБудем рады видеть вас 
 на вебинаре!\n\n\n\n
CATEGORIES:Committies
END:VEVENT
END:VCALENDAR