BEGIN:VCALENDAR
VERSION:2.0
PRODID:-//wp-events-plugin.com//7.2.3.1//EN
BEGIN:VEVENT
UID:225@eurobak.kz
DTSTART:20250923T063000Z
DTEND:20250923T073000Z
DTSTAMP:20250910T123423Z
URL:https://eurobak.kz/events/%d0%b2%d0%b5%d0%b1%d0%b8%d0%bd%d0%b0%d1%80-%
 d0%b2-%d1%80%d0%b0%d0%bc%d0%ba%d0%b0%d1%85-%d0%ba%d0%be%d0%bc%d0%b8%d1%82%
 d0%b5%d1%82%d0%b0-%d0%bf%d0%be-%d1%86%d0%b8%d1%84%d1%80%d0%be%d0%b2%d0%b8/
SUMMARY:Вебинар в рамках  комитета по цифров
 изации «Персональные данные под угрозо
 й: утечки и методы защиты»
DESCRIPTION:Уважаемые представители компаний\
 , входящих в ЕВРОБАК\,\n\nЕВРОБАК приглаша
 ет вас принять участие в вебинар в рамка
 х  комитета по цифровизации «Персональ
 ные данные под угрозой: утечки и методы з
 ащиты».\n\nДата: 23 сентября (вторник)Время:
  11:30 – 12:30Формат: ОнлайнЯзык: РусскийСпи
 кер: Максим Кармыков\, специалист по кибе
 рбезопасности\, ТОО «ПАЦИФИКА» входящей 
 в группу компаний Noventiq\n\nОписание:\n\nСего
 дня персональные данные стали главным о
 бъектом интереса киберпреступников. Каж
 дая компания работает с клиентскими баз
 ами\, договорами\, платёжной информацией 
 и данными сотрудников. Их утечка ведёт к 
 штрафам\, репутационным потерям и иногда
  — к остановке бизнеса. Мы разберём\, как
 ие именно данные относятся к персональн
 ым\, почему они столь привлекательны для 
 злоумышленников\, и как компании могут в
 ыстроить наиболее эффективную защиту.\n\n
  \n\nВ рамках вебинара мы обсудим:\n\n 	что и
 менно считается персональными данными и
  почему они так ценны для киберпреступни
 ков\;\n 	главные сценарии утечек — от ошиб
 ок сотрудников до действий инсайдеров и 
 хакеров\;\n 	реальные инциденты и их после
 дствия для компаний\;\n 	современные мето
 ды защиты персональных данных.\n\n&nbsp\;\n\nВ
 ебинар будет полезен юристам\, ИТ-директ
 орам\, специалистам по безопасности\, HR и 
 всем\, кто работает с данными сотруднико
 в\, клиентов\, контрагентов и т.д.\n\n&nbsp\;\n\n\
 nДля подтверждения вашего участия\, пожа
 луйста\, пройдите онлайн-регистрацию не 
 позднее 22 сентября.&nbsp\;\n\nБудем рады виде
 ть вас на вебинаре!\n\n\n\n
CATEGORIES:Committies
END:VEVENT
END:VCALENDAR