BEGIN:VCALENDAR
VERSION:2.0
PRODID:-//wp-events-plugin.com//7.2.3.1//EN
BEGIN:VEVENT
UID:228@eurobak.kz
DTSTART:20251022T060000Z
DTEND:20251022T070000Z
DTSTAMP:20250910T130351Z
URL:https://eurobak.kz/events/%d0%b2%d0%b5%d0%b1%d0%b8%d0%bd%d0%b0%d1%80-%
 d0%b2-%d1%80%d0%b0%d0%bc%d0%ba%d0%b0%d1%85-%d0%ba%d0%be%d0%bc%d0%b8%d1%82%
 d0%b5%d1%82%d0%b0-%d0%bf%d0%be-%d1%86%d0%b8%d1%84%d1%80%d0%be%d0%b2%d0%b8-
 2/
SUMMARY:Вебинар в рамках  комитета по цифров
 изации: «Система менеджмента информацио
 нной безопасности и как с ней жить» вход
 ящей в группу компаний Noventiq
DESCRIPTION:Уважаемые представители компаний\
 , входящих в ЕВРОБАК\,\n\nЕВРОБАК приглаша
 ет вас принять участие в вебинар в рамка
 х  комитета по цифровизации: «Система ме
 неджмента информационной безопасности 
 и как с ней жить» входящей в группу компа
 ний Noventiq\n\nДата: 22 октября (среда)Время: 11
 :00 – 12:00Формат: ОнлайнЯзык: РусскийСпике
 р: Валерий Велев\, ведущий аудитор\, ТОО «
 ПАЦИФИКА»Описание:\n\nСМИБ (система менед
 жмента информационной безопасности) — э
 то не только про стандарты ISO и документи
 рованные процессы. Это комплексная моде
 ль\, которая помогает бизнесу быть устой
 чивым\, соответствовать требованиям и за
 щищать данные в долгосрочной перспектив
 е. Мы обсудим\, какие процессы нужно доку
 ментировать\, какие сложности чаще всего
  возникают при внедрении СМИБ\, и почему 
 формирование культуры безопасности в ко
 мпании является не менее важным\, чем тех
 нологии.\n\n \n\nВ рамках вебинара мы обсуд
 им:\n\n 	что такое СМИБ и зачем она нужна би
 знесу\;\n 	основные процессы и стандарты (
 включая ISO 27001)\;\n 	трудности внедрения и п
 оддержки системы\;\n 	культуру безопаснос
 ти как итоговый результат.\n\n&nbsp\;\n\nВебин
 ар будет полезен топ-менеджерам\, директ
 орам по ИТ и информационной безопасност
 и\, специалистам по аудиту и комплаенсу.\n
 \n&nbsp\;\n\nДля подтверждения вашего участия
 \, пожалуйста\, пройдите онлайн-регистра
 цию не позднее 21 октября.\n\n&nbsp\;\n\nБудем р
 ады видеть вас на вебинаре!\n\n&nbsp\;
CATEGORIES:Committies
END:VEVENT
END:VCALENDAR