BEGIN:VCALENDAR
VERSION:2.0
PRODID:-//wp-events-plugin.com//7.2.3.1//EN
BEGIN:VEVENT
UID:190@eurobak.kz
DTSTART:20250610T070000Z
DTEND:20250610T080000Z
DTSTAMP:20250609T113851Z
URL:https://eurobak.kz/events/%d0%b2%d0%b5%d0%b1%d0%b8%d0%bd%d0%b0%d1%80-%
 d0%b2-%d1%80%d0%b0%d0%bc%d0%ba%d0%b0%d1%85-%d0%ba%d0%be%d0%bc%d0%b8%d1%82%
 d0%b5%d1%82%d0%b0-%d0%bf%d0%be-%d1%86%d0%b8%d1%84%d1%80%d0%be%d0%b2%d0%b8%
 d0%b7/
SUMMARY:Вебинар в рамках Комитета по цифрови
 зации: «Особенности налогообложения ИТ 
 компаний в Казахстане»
DESCRIPTION:Уважаемые представители компаний\
 , входящих в ЕВРОБАК\,\n\nЕВРОБАК приглаша
 ет вас принять участие в вебинар в рамка
 х Комитета по цифровизации: «Особенност
 и налогообложения ИТ компаний в Казахст
 ане».\n\nДата: 10 июня (вторник)\n\nВремя: 12:00 
 – 13:00\n\nФормат: Онлайн\n\nЯзык: Русский\n\nС
 пикер: Татьяна Горбачева\, Digital Committee\, Соу
 чредитель и директор AXISA AUDIT KZ\, Бизнес-со
 ветник ТОО Неткрэкер Текнолоджи Казахст
 ан\n\nО чем расскажем:\n\n 	Что такое ИТ комп
 ании\n 	Почем существуют особенности нал
 огообложения ИТ компаний\n 	Имеющиеся на
 логовые льготы и условия применения\n 	На
 логообложения доходов работников ИТ - ко
 мпаний\n 	Налогообложение сделок с заруб
 ежными контрагентами\n 	вопросы и ответы\
 n\nКому стоит посетить:\n\n 	Руководители к
 омпаний\n 	Руководители и специалисты фи
 нансовых департаментов\,\n 	Руководители 
 и специалисты отделов по управлению пер
 соналом\n 	Инвесторы и предприниматели\, 
 изучающие особенности возможности орга
 низации бизнеса в Казахстане\n\nПрисоеди
 няйтесь к нам на практический вебинар\, п
 освященный вопросам налогообложения ИТ 
 компаний в Казахстане\, какие предусмотр
 ены льготы и каковы условия их применени
 я. Мы также расскажем об особенностях на
 логообложения доходов работников и взаи
 модействии с зарубежными контрагентами.
 \n\n&nbsp\;\n\nДля подтверждения вашего участи
 я\, пожалуйста\, пройдите онлайн-регистр
 ацию не позднее 9 июня.\n\n&nbsp\;\n\nБудем рады
  видеть вас на вебинаре!\n\n&nbsp\;\n\n&nbsp\;\n\n&nbsp
 \;
CATEGORIES:Committies
END:VEVENT
END:VCALENDAR