BEGIN:VCALENDAR
VERSION:2.0
PRODID:-//wp-events-plugin.com//7.2.3.1//EN
BEGIN:VEVENT
UID:192@eurobak.kz
DTSTART:20250603T063000Z
DTEND:20250603T073000Z
DTSTAMP:20250526T132508Z
URL:https://eurobak.kz/events/%d0%b2%d0%b5%d0%b1%d0%b8%d0%bd%d0%b0%d1%80-%
 d0%b2-%d1%80%d0%b0%d0%bc%d0%ba%d0%b0%d1%85-%d0%ba%d0%be%d0%bc%d0%b8%d1%82%
 d0%b5%d1%82%d0%b0-%d0%bf%d0%be-%d1%86%d0%b8%d1%84%d1%80%d0%be%d0%b2%d0%b8%
 d0%b7-3/
SUMMARY:Вебинар в рамках Комитета по цифрови
 зации: «Общие правила регулирования циф
 ровых маркетплейсов. Ожидаемые изменени
 я»
DESCRIPTION:Уважаемые представители компаний\
 , входящих в ЕВРОБАК\,\n\nЕВРОБАК приглаша
 ет вас принять участие в вебинар в рамка
 х Комитета по цифровизации: «Общие прави
 ла регулирования цифровых маркетплейсо
 в. Ожидаемые изменения».\n\nДата: 3 июня (вт
 орник)\n\nВремя: 11:30 – 12:30\n\nФормат: Онлайн\n
 \nЯзык: Русский\n\nСпикер: Андрей Ёрш\, Digital
  Committee\, местный партнер филиала Baker McKenzie K
 azakhstan\n\n&nbsp\;\n\nВебинар посвящён вопросам 
 общего регулирования деятельности инте
 рнет платформ\, искусственного интеллек
 та\, и развития доступа к интернету для н
 аселения.\n\nДля подтверждения вашего уча
 стия\, пожалуйста\, пройдите онлайн-реги
 страцию не позднее 2 июня.\n\n&nbsp\;\n\nБудем р
 ады видеть вас на вебинаре!
CATEGORIES:Committies
END:VEVENT
END:VCALENDAR