BEGIN:VCALENDAR
VERSION:2.0
PRODID:-//wp-events-plugin.com//7.2.3.1//EN
BEGIN:VEVENT
UID:191@eurobak.kz
DTSTART:20250618T073000Z
DTEND:20250618T083000Z
DTSTAMP:20250526T081012Z
URL:https://eurobak.kz/events/%d0%b2%d0%b5%d0%b1%d0%b8%d0%bd%d0%b0%d1%80-%
 d0%b2-%d1%80%d0%b0%d0%bc%d0%ba%d0%b0%d1%85-%d0%ba%d0%be%d0%bc%d0%b8%d1%82%
 d0%b5%d1%82%d0%b0-%d0%bf%d0%be-%d1%86%d0%b8%d1%84%d1%80%d0%be%d0%b2%d0%b8%
 d0%b7-2/
SUMMARY:Вебинар в рамках Комитета по цифрови
 зации: «ЭДО: весь документооборот элект
 ронно! Как это работает?»
DESCRIPTION:Уважаемые представители компаний\
 , входящих в ЕВРОБАК\,\n\nЕВРОБАК приглаша
 ет вас принять участие в вебинар в рамка
 х Комитета по цифровизации: «ЭДО: весь до
 кументооборот электронно! Как это работ
 ает?».\n\nДата: 18 июня (среда)\n\nВремя: 12:30 – 
 13:30\n\nФормат: Онлайн\n\nЯзык: Русский\n\nСпи
 кер: Татьяна Горбачева\, Digital Committee\, Соуч
 редитель и директор AXISA AUDIT KZ\, Бизнес-сов
 етник ТОО Неткрэкер Текнолоджи Казахста
 н\n\nО чем расскажем:\n\n 	какие участки док
 ументооборота - ЭДО\n 	как работает проце
 сс\n 	законодательная база: использовани
 е ЭЦП\, защита персональных данных\n 	реко
 мендации по внедрению ЭДО\n 	вопросы и от
 веты\n\nКому стоит посетить:\n\n 	Руководит
 ели компаний\, желающие оптимизировать б
 изнес процессы в компании\n 	Руководител
 и и специалисты отделов по управлению пе
 рсоналом\n 	Руководители и специалисты ф
 инансовых департаментов\,\n 	Инвесторы и 
 предприниматели\, изучающие особенности
  возможности организации бизнеса в Каза
 хстане\n\nПрисоединяйтесь к нам на практи
 ческий вебинар\, посвященный вопросам вн
 едрения электронного документооборота 
 в компаниях в Казахстане. Мы также расск
 ажем о правовой основе\, включая правила 
 делегирования ЭЦП и аспекты защиты перс
 ональных данных.\n\n&nbsp\;\n\nДля подтвержден
 ия вашего участия\, пожалуйста\, пройдите
  онлайн-регистрацию не позднее 17 июня.\n\n
 &nbsp\;\n\nБудем рады видеть вас на вебинаре!\
 n\n&nbsp\;\n\n&nbsp\;\n\n&nbsp\;
CATEGORIES:Committies
END:VEVENT
END:VCALENDAR