BEGIN:VCALENDAR
VERSION:2.0
PRODID:-//wp-events-plugin.com//7.2.3.1//EN
BEGIN:VEVENT
UID:193@eurobak.kz
DTSTART:20250604T060000Z
DTEND:20250604T070000Z
DTSTAMP:20250526T133303Z
URL:https://eurobak.kz/events/%d0%b2%d0%b5%d0%b1%d0%b8%d0%bd%d0%b0%d1%80-%
 d0%b2-%d1%80%d0%b0%d0%bc%d0%ba%d0%b0%d1%85-%d0%ba%d0%be%d0%bc%d0%b8%d1%82%
 d0%b5%d1%82%d0%b0-%d0%bf%d0%be-%d1%82%d1%83%d1%80%d0%b8%d0%b7%d0%bc%d1%83/
SUMMARY:вебинар в рамках Комитета по туризму
 : «посвящённый ключевым инициативам Ком
 итета Travel\, Hospitality &#038\; MICE Committee»
DESCRIPTION:Уважаемые представители компаний\
 , входящих в ЕВРОБАК\,\n\nЕВРОБАК приглаша
 ет вас принять участие в вебинар в рамка
 х Комитета по туризму: «посвящённый ключ
 евым инициативам Комитета Travel\, Hospitality &amp
 \; MICE Committee».\n\nДата: 4 июня (среда)\n\nВремя: 1
 1:00 – 12:00\n\nФормат: Онлайн\n\nЯзык: Русский\
 n\nСпикер: Айнура Турежанова\, менеджер по
  развитию бизнеса  International Travel Plus.\n\n&nbsp\;\n
 \nУчастники узнают о возможностях провед
 ения международных конгрессов и конфере
 нций в Казахстане\, а также о том\, как ста
 ть амбассадором туризма и представлять 
 страну на глобальной арене.\n\nДля подтве
 рждения вашего участия\, пожалуйста\, про
 йдите онлайн-регистрацию не позднее 3 ию
 ня.\n\n&nbsp\;\n\nБудем рады видеть вас на веби
 наре!\n\n&nbsp\;
CATEGORIES:Committies
END:VEVENT
END:VCALENDAR