BEGIN:VCALENDAR
VERSION:2.0
PRODID:-//wp-events-plugin.com//7.2.3.1//EN
BEGIN:VEVENT
UID:195@eurobak.kz
DTSTART:20250619T060000Z
DTEND:20250619T070000Z
DTSTAMP:20250529T111739Z
URL:https://eurobak.kz/events/%d0%b2%d0%b5%d0%b1%d0%b8%d0%bd%d0%b0%d1%80-%
 d0%b2-%d1%80%d0%b0%d0%bc%d0%ba%d0%b0%d1%85-%d0%ba%d0%be%d0%bc%d0%b8%d1%82%
 d0%b5%d1%82%d0%b0-%d0%bf%d0%be-%d0%bc%d0%b0%d1%80%d0%ba%d0%b5%d1%82%d0%b8%
 d0%bd/
SUMMARY:Вебинар в рамках комитета по маркети
 нгу и PR на тему: “Как принимать уверенны
 е решения от рыночных трендов до оценки 
 эффективности инвестиций”
DESCRIPTION:Уважаемые представители компаний\
 , входящих в ЕВРОБАК\,\n\nЕВРОБАК приглаша
 ет вас принять участие в вебинар в рамка
 х Комитета по маркетингу и PR на тему: "Как
  принимать уверенные решения от рыночны
 х трендов до оценки эффективности инвес
 тиций"\n\n&nbsp\;\n\nДата: 19 июня (четверг)\n\nВре
 мя: 11:00 – 12:00\n\nФормат: Онлайн\n\nЯзык: Русс
 кий\n\nСпикер: \n\nДмитрий Дрокин- коммерче
 ский директор\, NielsenIQ\n\nЕрасыл Отаров- ста
 рший эксперт отдела продвинутой аналити
 ки и инсайтов NielsenIQ\n\n&nbsp\;\n\nКак принимать
  уверенные решения: от рыночных трендов 
 до оценки эффективности инвестиций\n\nРы
 нок Казахстана активно меняется: инфляц
 ионное давление\, рост промоактивности и
  усиление конкуренции требуют от компан
 ий более точных и быстрых решений. На это
 й сессии мы обсудим\, как экономическая с
 итуация влияет на поведение потребителе
 й\, как меняются стратегии в промо и рекл
 аме\, а также какие инструменты помогают 
 оценивать эффективность трейда и маркет
 инга. Мы поделимся методологиями NielsenIQ и 
 примерами подходов\, которые позволяют б
 изнесу лучше понимать\, что работает\, а ч
 то нет.\n\nНа сессии обсудим:\n- Макроэконо
 мику и поведение потребителей в Казахст
 ане\n-Обзор промо и ценовых активностей\n-
 Обзор маркетинговых активностей\n-Инстр
 ументы оценки эффективности: трейд и мар
 кетинг\n\nДля подтверждения вашего участ
 ия\, пожалуйста\, пройдите онлайн-регист
 рацию не позднее 18 июня.\n\n&nbsp\;\n\nБудем ра
 ды видеть вас на вебинаре!\n\n&nbsp\;\n\n&nbsp\;\n\n&
 nbsp\;
CATEGORIES:Committies
END:VEVENT
END:VCALENDAR