BEGIN:VCALENDAR
VERSION:2.0
PRODID:-//wp-events-plugin.com//7.2.3.1//EN
BEGIN:VEVENT
UID:180@eurobak.kz
DTSTART:20250519T060000Z
DTEND:20250519T080000Z
DTSTAMP:20250425T122431Z
URL:https://eurobak.kz/events/%d0%b2%d0%b5%d0%b1%d0%b8%d0%bd%d0%b0%d1%80%d
 0%b5-%d0%ba%d0%b0%d0%ba-%d0%b1%d0%b8%d0%b7%d0%bd%d0%b5%d1%81%d1%83-%d1%81%
 d0%bf%d1%80%d0%b0%d0%b2%d0%bb%d1%8f%d1%82%d1%8c%d1%81%d1%8f-%d1%81/
SUMMARY:Семинар: «Как бизнесу справляться с 
 уголовно-правовыми вызовами: инструкции
  из практики»
DESCRIPTION:Уважаемые представители компаний\
 , входящих в ЕВРОБАК\,\n\nЕВРОБАК приглаша
 ет вас принять участие на семинаре: «Как
  бизнесу справляться с уголовно-правовы
 ми вызовами: инструкции из практики».\n\nД
 ата: 19 мая (понедельник)\n\nВремя: 11:00 – 13:00\
 n\nФормат: Онлайн\n\nЯзык: Русский\n\nСпикер
 :\n\nНазерке Ризабекова  – адвокат\, совет
 ник TKS Disputes\n\nОсновные вопросы:\n\n 	\n\n 	Доп
 рос сотрудника компании\n 	Запросы от пра
 воохранительных органов\n 	Оценка рисков
  вовлечения компании в уголовное пресле
 дование\n 	Возбуждение уголовных дел в сл
 учае хищений\n\n\n\nБудем рады видеть вас н
 а семинаре!
CATEGORIES:Committies
END:VEVENT
END:VCALENDAR