BEGIN:VCALENDAR
VERSION:2.0
PRODID:-//wp-events-plugin.com//7.2.3.1//EN
BEGIN:VEVENT
UID:221@eurobak.kz
DTSTART:20250925T060000Z
DTEND:20250925T081500Z
DTSTAMP:20250923T110517Z
URL:https://eurobak.kz/events/%d0%b2%d0%b5%d0%b1%d0%b8%d0%bd%d0%b0%d1%80%d
 0%b5-%d0%b2-%d1%80%d0%b0%d0%bc%d0%ba%d0%b0%d1%85-%d0%bd%d0%b0%d0%bb%d0%be%
 d0%b3%d0%be%d0%b2%d0%be%d0%b3%d0%be-%d0%ba%d0%be%d0%bc%d0%b8%d1%82%d0%b5%d
 1%82/
SUMMARY:Вебинаре в рамках налогового комите
 та: “Налоговые изменения”
DESCRIPTION:Уважаемые представители компаний\
 , входящих в ЕВРОБАК\,\n\n\n\nЕВРОБАК пригла
 шает вас принять участие в вебинаре в ра
 мках налогового комитета: "Налоговые изм
 енения".Дата: 25 сентября (четверг)Время: 11
 :00 - 13:15Язык: русскийФормат: онлайнСпикер
 ы:Татьяна Горбачева\, Председатель комит
 ета по цифровизации ЕВРОБАК\, Соучредите
 ль и директор ТОО "AXISA AUDIT KZ"Лолита Закиро
 ва\, Со-председатель Налогового комитета
  ЕВРОБАК\, Учредитель и Директор\, ТОО "AXISA
  AUDIT KZ"Для подтверждения вашего участия \,
  пожалуйста пройдите онлайн регистрацию
  не позднее 24 сентября.\n\nБудем рады виде
 ть вас на вебинаре!\n\n&nbsp\;\n\n\n\n
CATEGORIES:Committies
END:VEVENT
END:VCALENDAR